BEGIN:VCALENDAR
VERSION:2.0
PRODID:-//Indian Hills Community Church - ECPv6.15.20//NONSGML v1.0//EN
CALSCALE:GREGORIAN
METHOD:PUBLISH
X-WR-CALNAME:Indian Hills Community Church
X-ORIGINAL-URL:https://ihcc.org
X-WR-CALDESC:Events for Indian Hills Community Church
REFRESH-INTERVAL;VALUE=DURATION:PT1H
X-Robots-Tag:noindex
X-PUBLISHED-TTL:PT1H
BEGIN:VTIMEZONE
TZID:America/Chicago
BEGIN:DAYLIGHT
TZOFFSETFROM:-0600
TZOFFSETTO:-0500
TZNAME:CDT
DTSTART:20250309T080000
END:DAYLIGHT
BEGIN:STANDARD
TZOFFSETFROM:-0500
TZOFFSETTO:-0600
TZNAME:CST
DTSTART:20251102T070000
END:STANDARD
BEGIN:DAYLIGHT
TZOFFSETFROM:-0600
TZOFFSETTO:-0500
TZNAME:CDT
DTSTART:20260308T080000
END:DAYLIGHT
BEGIN:STANDARD
TZOFFSETFROM:-0500
TZOFFSETTO:-0600
TZNAME:CST
DTSTART:20261101T070000
END:STANDARD
BEGIN:DAYLIGHT
TZOFFSETFROM:-0600
TZOFFSETTO:-0500
TZNAME:CDT
DTSTART:20270314T080000
END:DAYLIGHT
BEGIN:STANDARD
TZOFFSETFROM:-0500
TZOFFSETTO:-0600
TZNAME:CST
DTSTART:20271107T070000
END:STANDARD
END:VTIMEZONE
BEGIN:VEVENT
DTSTART;TZID=America/Chicago:20260318T183000
DTEND;TZID=America/Chicago:20260318T193000
DTSTAMP:20260425T080130
CREATED:20250731T155410Z
LAST-MODIFIED:20250904T165557Z
UID:10008391-1773858600-1773862200@ihcc.org
SUMMARY:Pastors' Pulpit: Vital Signs Study
DESCRIPTION:
URL:https://ihcc.org/event/wednesday-night-class/2026-03-18/
LOCATION:Chapel\, 1000 S. 84th St.\, Lincoln\, NE\, 68505\, United States
CATEGORIES:Adult Ministries
END:VEVENT
BEGIN:VEVENT
DTSTART;TZID=America/Chicago:20260322T084500
DTEND;TZID=America/Chicago:20260322T094500
DTSTAMP:20260425T080130
CREATED:20251007T173748Z
LAST-MODIFIED:20251217T142556Z
UID:10009542-1774169100-1774172700@ihcc.org
SUMMARY:Fundamentals of the Faith Class
DESCRIPTION:This class will run for about six months and will give you an overview of the beliefs of our church. Sign up at ihcc.org.
URL:https://ihcc.org/event/fundamentals-of-the-faith-class-2/2026-03-22/
LOCATION:STS Classroom
CATEGORIES:Adult Ministries
END:VEVENT
BEGIN:VEVENT
DTSTART;TZID=America/Chicago:20260322T100000
DTEND;TZID=America/Chicago:20260322T113000
DTSTAMP:20260425T080130
CREATED:20250819T153143Z
LAST-MODIFIED:20250819T161124Z
UID:10008598-1774173600-1774179000@ihcc.org
SUMMARY:Morning Worship Service
DESCRIPTION:Join us every Sunday morning for our main worship service. Nursery for young children provided\, as well as children’s church for elementary children.
URL:https://ihcc.org/event/morning-worship-service-2-2-2-2-3-2-2-2/2026-03-22/
LOCATION:Auditorium\, 1000 S. 84th St.\, Lincoln\, 68505\, United States
CATEGORIES:Adult Ministries
END:VEVENT
BEGIN:VEVENT
DTSTART;TZID=America/Chicago:20260322T180000
DTEND;TZID=America/Chicago:20260322T193000
DTSTAMP:20260425T080130
CREATED:20250904T163809Z
LAST-MODIFIED:20260218T161520Z
UID:10008588-1774202400-1774207800@ihcc.org
SUMMARY:Evening Worship Service
DESCRIPTION:Join us every Sunday evening for worship and the continued study of God’s Word. Nursery for young children provided\, and we also offer special children’s programs – Sonshine Kids (ages 4-Kindergarten)\, Boys of Faith (grades 1st-6th)\, Girls of Grace (grades 1st-6th).
URL:https://ihcc.org/event/evening-worship-service-2-2-2-2-2-2-2-2-2/2026-03-22/
LOCATION:Auditorium\, 1000 S. 84th St.\, Lincoln\, 68505\, United States
CATEGORIES:Adult Ministries
END:VEVENT
BEGIN:VEVENT
DTSTART;TZID=America/Chicago:20260325T183000
DTEND;TZID=America/Chicago:20260325T193000
DTSTAMP:20260425T080130
CREATED:20250731T155410Z
LAST-MODIFIED:20250904T165557Z
UID:10008392-1774463400-1774467000@ihcc.org
SUMMARY:Pastors' Pulpit: Vital Signs Study
DESCRIPTION:
URL:https://ihcc.org/event/wednesday-night-class/2026-03-25/
LOCATION:Chapel\, 1000 S. 84th St.\, Lincoln\, NE\, 68505\, United States
CATEGORIES:Adult Ministries
END:VEVENT
BEGIN:VEVENT
DTSTART;TZID=America/Chicago:20260329T084500
DTEND;TZID=America/Chicago:20260329T094500
DTSTAMP:20260425T080130
CREATED:20251007T173748Z
LAST-MODIFIED:20251217T142556Z
UID:10009543-1774773900-1774777500@ihcc.org
SUMMARY:Fundamentals of the Faith Class
DESCRIPTION:This class will run for about six months and will give you an overview of the beliefs of our church. Sign up at ihcc.org.
URL:https://ihcc.org/event/fundamentals-of-the-faith-class-2/2026-03-29/
LOCATION:STS Classroom
CATEGORIES:Adult Ministries
END:VEVENT
BEGIN:VEVENT
DTSTART;TZID=America/Chicago:20260329T100000
DTEND;TZID=America/Chicago:20260329T113000
DTSTAMP:20260425T080130
CREATED:20250819T153143Z
LAST-MODIFIED:20250819T161124Z
UID:10008599-1774778400-1774783800@ihcc.org
SUMMARY:Morning Worship Service
DESCRIPTION:Join us every Sunday morning for our main worship service. Nursery for young children provided\, as well as children’s church for elementary children.
URL:https://ihcc.org/event/morning-worship-service-2-2-2-2-3-2-2-2/2026-03-29/
LOCATION:Auditorium\, 1000 S. 84th St.\, Lincoln\, 68505\, United States
CATEGORIES:Adult Ministries
END:VEVENT
BEGIN:VEVENT
DTSTART;TZID=America/Chicago:20260329T180000
DTEND;TZID=America/Chicago:20260329T193000
DTSTAMP:20260425T080130
CREATED:20250904T163809Z
LAST-MODIFIED:20260218T161520Z
UID:10008589-1774807200-1774812600@ihcc.org
SUMMARY:Evening Worship Service
DESCRIPTION:Join us every Sunday evening for worship and the continued study of God’s Word. Nursery for young children provided\, and we also offer special children’s programs – Sonshine Kids (ages 4-Kindergarten)\, Boys of Faith (grades 1st-6th)\, Girls of Grace (grades 1st-6th).
URL:https://ihcc.org/event/evening-worship-service-2-2-2-2-2-2-2-2-2/2026-03-29/
LOCATION:Auditorium\, 1000 S. 84th St.\, Lincoln\, 68505\, United States
CATEGORIES:Adult Ministries
END:VEVENT
BEGIN:VEVENT
DTSTART;TZID=America/Chicago:20260330T180000
DTEND;TZID=America/Chicago:20260330T200000
DTSTAMP:20260425T080130
CREATED:20260317T182952Z
LAST-MODIFIED:20260317T184157Z
UID:10010180-1774893600-1774900800@ihcc.org
SUMMARY:Easter Outreach
DESCRIPTION:Sign-up for one (or multiple) outreach events to distribute Easter invites across Lincoln. \nMeadowlane (between 70th to 84th & O St to Vine St) \nMeet at IHCC at 6 p.m.
URL:https://ihcc.org/event/easter-outreach/
CATEGORIES:Adult Ministries,Evangelism Ministry
END:VEVENT
BEGIN:VEVENT
DTSTART;TZID=America/Chicago:20260331T180000
DTEND;TZID=America/Chicago:20260331T200000
DTSTAMP:20260425T080130
CREATED:20260317T183211Z
LAST-MODIFIED:20260317T184101Z
UID:10010181-1774980000-1774987200@ihcc.org
SUMMARY:Easter Outreach
DESCRIPTION:Sign-up for one (or multiple) outreach events to distribute Easter invites across Lincoln. \nFox Hollow (between 70th to 84th & Pioneers Blvd to Van Dorn St.  Meet at IHCC at 6 p.m.
URL:https://ihcc.org/event/easter-outreach-2/
CATEGORIES:Adult Ministries,Evangelism Ministry
END:VEVENT
BEGIN:VEVENT
DTSTART;TZID=America/Chicago:20260401T190000
DTEND;TZID=America/Chicago:20260401T210000
DTSTAMP:20260425T080130
CREATED:20260317T190023Z
LAST-MODIFIED:20260318T170454Z
UID:10010184-1775070000-1775077200@ihcc.org
SUMMARY:Easter Prayer Night
DESCRIPTION:Join us for an all-church prayer night for Easter. We’re meeting in the Family Center. Afterwards there will be a time of fellowship.
URL:https://ihcc.org/event/easter-prayer-night/
LOCATION:Family Center\, 1000 S. 84th St.\, Lincoln\, NE\, 68505\, United States
CATEGORIES:Adult Ministries
END:VEVENT
BEGIN:VEVENT
DTSTART;TZID=America/Chicago:20260402T180000
DTEND;TZID=America/Chicago:20260402T200000
DTSTAMP:20260425T080130
CREATED:20260317T183335Z
LAST-MODIFIED:20260317T184310Z
UID:10010182-1775152800-1775160000@ihcc.org
SUMMARY:Easter Outreach
DESCRIPTION:Sign-up for one (or multiple) outreach events to distribute Easter invites across Lincoln. \nVillage Meadows (between 56th to 70th & Yankee Hill Rd to Pine Lake Rd) \nMeet at IHCC at 6 p.m.
URL:https://ihcc.org/event/easter-outreach-3/
CATEGORIES:Adult Ministries,Evangelism Ministry
END:VEVENT
BEGIN:VEVENT
DTSTART;TZID=America/Chicago:20260403T180000
DTEND;TZID=America/Chicago:20260403T191500
DTSTAMP:20260425T080130
CREATED:20240111T014215Z
LAST-MODIFIED:20251022T163052Z
UID:10009548-1775239200-1775243700@ihcc.org
SUMMARY:Good Friday Service - Communion
DESCRIPTION: 
URL:https://ihcc.org/event/good-friday-service-communion/2026-04-03/
LOCATION:Auditorium\, 1000 S. 84th St.\, Lincoln\, 68505\, United States
CATEGORIES:Adult Ministries
END:VEVENT
BEGIN:VEVENT
DTSTART;TZID=America/Chicago:20260404T090000
DTEND;TZID=America/Chicago:20260404T110000
DTSTAMP:20260425T080130
CREATED:20260317T183837Z
LAST-MODIFIED:20260317T184010Z
UID:10010183-1775293200-1775300400@ihcc.org
SUMMARY:Easter Outreach
DESCRIPTION:Sign-up for one (or multiple) outreach events to distribute Easter invites across Lincoln. \nMaple Village (between 70th to 84th & A St to O St) \nMeet at IHCC at 9 a.m.
URL:https://ihcc.org/event/easter-outreach-5/
CATEGORIES:Adult Ministries,Evangelism Ministry
END:VEVENT
BEGIN:VEVENT
DTSTART;TZID=America/Chicago:20260405T084500
DTEND;TZID=America/Chicago:20260405T094500
DTSTAMP:20260425T080130
CREATED:20251007T173748Z
LAST-MODIFIED:20251217T142556Z
UID:10009544-1775378700-1775382300@ihcc.org
SUMMARY:Fundamentals of the Faith Class
DESCRIPTION:This class will run for about six months and will give you an overview of the beliefs of our church. Sign up at ihcc.org.
URL:https://ihcc.org/event/fundamentals-of-the-faith-class-2/2026-04-05/
LOCATION:STS Classroom
CATEGORIES:Adult Ministries
END:VEVENT
BEGIN:VEVENT
DTSTART;TZID=America/Chicago:20260405T100000
DTEND;TZID=America/Chicago:20260405T113000
DTSTAMP:20260425T080130
CREATED:20250324T155557Z
LAST-MODIFIED:20260415T150143Z
UID:10010222-1775383200-1775388600@ihcc.org
SUMMARY:Baptism
DESCRIPTION:
URL:https://ihcc.org/event/baptism-2/2026-04-05/
LOCATION:Auditorium\, 1000 S. 84th St.\, Lincoln\, 68505\, United States
CATEGORIES:Adult Ministries
END:VEVENT
BEGIN:VEVENT
DTSTART;TZID=America/Chicago:20260405T100000
DTEND;TZID=America/Chicago:20260405T113000
DTSTAMP:20260425T080130
CREATED:20250819T153143Z
LAST-MODIFIED:20250819T161124Z
UID:10008600-1775383200-1775388600@ihcc.org
SUMMARY:Morning Worship Service
DESCRIPTION:Join us every Sunday morning for our main worship service. Nursery for young children provided\, as well as children’s church for elementary children.
URL:https://ihcc.org/event/morning-worship-service-2-2-2-2-3-2-2-2/2026-04-05/
LOCATION:Auditorium\, 1000 S. 84th St.\, Lincoln\, 68505\, United States
CATEGORIES:Adult Ministries
END:VEVENT
BEGIN:VEVENT
DTSTART;TZID=America/Chicago:20260405T180000
DTEND;TZID=America/Chicago:20260405T193000
DTSTAMP:20260425T080130
CREATED:20260218T161302Z
LAST-MODIFIED:20260218T161302Z
UID:10010159-1775412000-1775417400@ihcc.org
SUMMARY:Easter - No Evening Service
DESCRIPTION:
URL:https://ihcc.org/event/easter-no-evening-service/2026-04-05/
CATEGORIES:Adult Ministries,Boys of Faith,Children's Ministry,Girls of Grace,Music Ministry
END:VEVENT
BEGIN:VEVENT
DTSTART;TZID=America/Chicago:20260408T183000
DTEND;TZID=America/Chicago:20260408T193000
DTSTAMP:20260425T080130
CREATED:20250731T155410Z
LAST-MODIFIED:20250904T165557Z
UID:10008393-1775673000-1775676600@ihcc.org
SUMMARY:Pastors' Pulpit: Vital Signs Study
DESCRIPTION:
URL:https://ihcc.org/event/wednesday-night-class/2026-04-08/
LOCATION:Chapel\, 1000 S. 84th St.\, Lincoln\, NE\, 68505\, United States
CATEGORIES:Adult Ministries
END:VEVENT
BEGIN:VEVENT
DTSTART;TZID=America/Chicago:20260412T100000
DTEND;TZID=America/Chicago:20260412T113000
DTSTAMP:20260425T080130
CREATED:20250819T153143Z
LAST-MODIFIED:20250819T161124Z
UID:10008601-1775988000-1775993400@ihcc.org
SUMMARY:Morning Worship Service
DESCRIPTION:Join us every Sunday morning for our main worship service. Nursery for young children provided\, as well as children’s church for elementary children.
URL:https://ihcc.org/event/morning-worship-service-2-2-2-2-3-2-2-2/2026-04-12/
LOCATION:Auditorium\, 1000 S. 84th St.\, Lincoln\, 68505\, United States
CATEGORIES:Adult Ministries
END:VEVENT
BEGIN:VEVENT
DTSTART;TZID=America/Chicago:20260412T180000
DTEND;TZID=America/Chicago:20260412T193000
DTSTAMP:20260425T080130
CREATED:20250904T163809Z
LAST-MODIFIED:20260218T161520Z
UID:10008591-1776016800-1776022200@ihcc.org
SUMMARY:Evening Worship Service
DESCRIPTION:Join us every Sunday evening for worship and the continued study of God’s Word. Nursery for young children provided\, and we also offer special children’s programs – Sonshine Kids (ages 4-Kindergarten)\, Boys of Faith (grades 1st-6th)\, Girls of Grace (grades 1st-6th).
URL:https://ihcc.org/event/evening-worship-service-2-2-2-2-2-2-2-2-2/2026-04-12/
LOCATION:Auditorium\, 1000 S. 84th St.\, Lincoln\, 68505\, United States
CATEGORIES:Adult Ministries
END:VEVENT
BEGIN:VEVENT
DTSTART;TZID=America/Chicago:20260415T183000
DTEND;TZID=America/Chicago:20260415T193000
DTSTAMP:20260425T080130
CREATED:20250731T155410Z
LAST-MODIFIED:20250904T165557Z
UID:10008394-1776277800-1776281400@ihcc.org
SUMMARY:Pastors' Pulpit: Vital Signs Study
DESCRIPTION:
URL:https://ihcc.org/event/wednesday-night-class/2026-04-15/
LOCATION:Chapel\, 1000 S. 84th St.\, Lincoln\, NE\, 68505\, United States
CATEGORIES:Adult Ministries
END:VEVENT
BEGIN:VEVENT
DTSTART;TZID=America/Chicago:20260419T100000
DTEND;TZID=America/Chicago:20260419T113000
DTSTAMP:20260425T080130
CREATED:20250819T153143Z
LAST-MODIFIED:20250819T161124Z
UID:10008602-1776592800-1776598200@ihcc.org
SUMMARY:Morning Worship Service
DESCRIPTION:Join us every Sunday morning for our main worship service. Nursery for young children provided\, as well as children’s church for elementary children.
URL:https://ihcc.org/event/morning-worship-service-2-2-2-2-3-2-2-2/2026-04-19/
LOCATION:Auditorium\, 1000 S. 84th St.\, Lincoln\, 68505\, United States
CATEGORIES:Adult Ministries
END:VEVENT
BEGIN:VEVENT
DTSTART;TZID=America/Chicago:20260419T180000
DTEND;TZID=America/Chicago:20260419T193000
DTSTAMP:20260425T080130
CREATED:20250904T163809Z
LAST-MODIFIED:20260218T161520Z
UID:10008592-1776621600-1776627000@ihcc.org
SUMMARY:Evening Worship Service
DESCRIPTION:Join us every Sunday evening for worship and the continued study of God’s Word. Nursery for young children provided\, and we also offer special children’s programs – Sonshine Kids (ages 4-Kindergarten)\, Boys of Faith (grades 1st-6th)\, Girls of Grace (grades 1st-6th).
URL:https://ihcc.org/event/evening-worship-service-2-2-2-2-2-2-2-2-2/2026-04-19/
LOCATION:Auditorium\, 1000 S. 84th St.\, Lincoln\, 68505\, United States
CATEGORIES:Adult Ministries
END:VEVENT
BEGIN:VEVENT
DTSTART;TZID=America/Chicago:20260422T183000
DTEND;TZID=America/Chicago:20260422T193000
DTSTAMP:20260425T080130
CREATED:20250731T155410Z
LAST-MODIFIED:20250904T165557Z
UID:10008395-1776882600-1776886200@ihcc.org
SUMMARY:Pastors' Pulpit: Vital Signs Study
DESCRIPTION:
URL:https://ihcc.org/event/wednesday-night-class/2026-04-22/
LOCATION:Chapel\, 1000 S. 84th St.\, Lincoln\, NE\, 68505\, United States
CATEGORIES:Adult Ministries
END:VEVENT
BEGIN:VEVENT
DTSTART;TZID=America/Chicago:20260426T100000
DTEND;TZID=America/Chicago:20260426T113000
DTSTAMP:20260425T080130
CREATED:20250324T155557Z
LAST-MODIFIED:20260415T150143Z
UID:10010221-1777197600-1777203000@ihcc.org
SUMMARY:Baptism
DESCRIPTION:
URL:https://ihcc.org/event/baptism-2/2026-04-26/
LOCATION:Auditorium\, 1000 S. 84th St.\, Lincoln\, 68505\, United States
CATEGORIES:Adult Ministries
END:VEVENT
BEGIN:VEVENT
DTSTART;TZID=America/Chicago:20260426T100000
DTEND;TZID=America/Chicago:20260426T113000
DTSTAMP:20260425T080130
CREATED:20250819T153143Z
LAST-MODIFIED:20250819T161124Z
UID:10008603-1777197600-1777203000@ihcc.org
SUMMARY:Morning Worship Service
DESCRIPTION:Join us every Sunday morning for our main worship service. Nursery for young children provided\, as well as children’s church for elementary children.
URL:https://ihcc.org/event/morning-worship-service-2-2-2-2-3-2-2-2/2026-04-26/
LOCATION:Auditorium\, 1000 S. 84th St.\, Lincoln\, 68505\, United States
CATEGORIES:Adult Ministries
END:VEVENT
BEGIN:VEVENT
DTSTART;TZID=America/Chicago:20260426T180000
DTEND;TZID=America/Chicago:20260426T193000
DTSTAMP:20260425T080130
CREATED:20250904T163809Z
LAST-MODIFIED:20260218T161520Z
UID:10008593-1777226400-1777231800@ihcc.org
SUMMARY:Evening Worship Service
DESCRIPTION:Join us every Sunday evening for worship and the continued study of God’s Word. Nursery for young children provided\, and we also offer special children’s programs – Sonshine Kids (ages 4-Kindergarten)\, Boys of Faith (grades 1st-6th)\, Girls of Grace (grades 1st-6th).
URL:https://ihcc.org/event/evening-worship-service-2-2-2-2-2-2-2-2-2/2026-04-26/
LOCATION:Auditorium\, 1000 S. 84th St.\, Lincoln\, 68505\, United States
CATEGORIES:Adult Ministries
END:VEVENT
BEGIN:VEVENT
DTSTART;TZID=America/Chicago:20260427T180000
DTEND;TZID=America/Chicago:20260427T193000
DTSTAMP:20260425T080130
CREATED:20260416T205142Z
LAST-MODIFIED:20260416T210737Z
UID:10010243-1777312800-1777318200@ihcc.org
SUMMARY:Door-to-Door Evangelism
DESCRIPTION:Join us as we go door-to-door in various Lincoln neighborhoods bringing the Good News of the Gospel ! \nYou will get paired up with a seasoned evangelist if you’re new to this. We meet in the South Lobby at 6:00 pm \nWe go out each Monday night through the Summer and early Fall until daylight and weather determines otherwise.
URL:https://ihcc.org/event/door-to-door-evangelism/2026-04-27/
CATEGORIES:Adult Ministries,Evangelism Ministry
END:VEVENT
BEGIN:VEVENT
DTSTART;TZID=America/Chicago:20260429T183000
DTEND;TZID=America/Chicago:20260429T193000
DTSTAMP:20260425T080130
CREATED:20250731T155410Z
LAST-MODIFIED:20250904T165557Z
UID:10008396-1777487400-1777491000@ihcc.org
SUMMARY:Pastors' Pulpit: Vital Signs Study
DESCRIPTION:
URL:https://ihcc.org/event/wednesday-night-class/2026-04-29/
LOCATION:Chapel\, 1000 S. 84th St.\, Lincoln\, NE\, 68505\, United States
CATEGORIES:Adult Ministries
END:VEVENT
END:VCALENDAR