BEGIN:VCALENDAR
VERSION:2.0
PRODID:-//Indian Hills Community Church - ECPv6.15.20//NONSGML v1.0//EN
CALSCALE:GREGORIAN
METHOD:PUBLISH
X-WR-CALNAME:Indian Hills Community Church
X-ORIGINAL-URL:https://ihcc.org
X-WR-CALDESC:Events for Indian Hills Community Church
REFRESH-INTERVAL;VALUE=DURATION:PT1H
X-Robots-Tag:noindex
X-PUBLISHED-TTL:PT1H
BEGIN:VTIMEZONE
TZID:America/Chicago
BEGIN:DAYLIGHT
TZOFFSETFROM:-0600
TZOFFSETTO:-0500
TZNAME:CDT
DTSTART:20250309T080000
END:DAYLIGHT
BEGIN:STANDARD
TZOFFSETFROM:-0500
TZOFFSETTO:-0600
TZNAME:CST
DTSTART:20251102T070000
END:STANDARD
BEGIN:DAYLIGHT
TZOFFSETFROM:-0600
TZOFFSETTO:-0500
TZNAME:CDT
DTSTART:20260308T080000
END:DAYLIGHT
BEGIN:STANDARD
TZOFFSETFROM:-0500
TZOFFSETTO:-0600
TZNAME:CST
DTSTART:20261101T070000
END:STANDARD
BEGIN:DAYLIGHT
TZOFFSETFROM:-0600
TZOFFSETTO:-0500
TZNAME:CDT
DTSTART:20270314T080000
END:DAYLIGHT
BEGIN:STANDARD
TZOFFSETFROM:-0500
TZOFFSETTO:-0600
TZNAME:CST
DTSTART:20271107T070000
END:STANDARD
END:VTIMEZONE
BEGIN:VEVENT
DTSTART;TZID=America/Chicago:20260830T180000
DTEND;TZID=America/Chicago:20260830T193000
DTSTAMP:20260425T071352
CREATED:20250819T161745Z
LAST-MODIFIED:20250819T163229Z
UID:10008654-1788112800-1788118200@ihcc.org
SUMMARY:Evening Worship Service
DESCRIPTION:Join us every Sunday evening for worship and the continued study of God’s Word. Nursery for young children provided\, and we also offer special children’s programs – Sonshine Kids (ages 4-Kindergarten)\, Boys of Faith (grades 1st-6th)\, Girls of Grace (grades 1st-6th).
URL:https://ihcc.org/event/evening-worship-service-2-2-2-2-2-2-3/2026-08-30/
LOCATION:Auditorium\, 1000 S. 84th St.\, Lincoln\, 68505\, United States
CATEGORIES:Adult Ministries
END:VEVENT
BEGIN:VEVENT
DTSTART;TZID=America/Chicago:20260831T180000
DTEND;TZID=America/Chicago:20260831T193000
DTSTAMP:20260425T071352
CREATED:20260416T205142Z
LAST-MODIFIED:20260416T210737Z
UID:10010261-1788199200-1788204600@ihcc.org
SUMMARY:Door-to-Door Evangelism
DESCRIPTION:Join us as we go door-to-door in various Lincoln neighborhoods bringing the Good News of the Gospel ! \nYou will get paired up with a seasoned evangelist if you’re new to this. We meet in the South Lobby at 6:00 pm \nWe go out each Monday night through the Summer and early Fall until daylight and weather determines otherwise.
URL:https://ihcc.org/event/door-to-door-evangelism/2026-08-31/
CATEGORIES:Adult Ministries,Evangelism Ministry
END:VEVENT
BEGIN:VEVENT
DTSTART;TZID=America/Chicago:20260906T100000
DTEND;TZID=America/Chicago:20260906T113000
DTSTAMP:20260425T071352
CREATED:20250819T155842Z
LAST-MODIFIED:20260112T210011Z
UID:10008622-1788688800-1788694200@ihcc.org
SUMMARY:Morning Worship Service
DESCRIPTION:Join us every Sunday morning for our main worship service. Nursery for young children provided\, as well as children’s church for elementary children.
URL:https://ihcc.org/event/morning-worship-service-2-2-2-2-3-2-3/2026-09-06/
LOCATION:Auditorium\, 1000 S. 84th St.\, Lincoln\, 68505\, United States
CATEGORIES:Adult Ministries
END:VEVENT
BEGIN:VEVENT
DTSTART;TZID=America/Chicago:20260906T180000
DTEND;TZID=America/Chicago:20260906T193000
DTSTAMP:20260425T071352
CREATED:20250819T161745Z
LAST-MODIFIED:20250819T163229Z
UID:10008655-1788717600-1788723000@ihcc.org
SUMMARY:Evening Worship Service
DESCRIPTION:Join us every Sunday evening for worship and the continued study of God’s Word. Nursery for young children provided\, and we also offer special children’s programs – Sonshine Kids (ages 4-Kindergarten)\, Boys of Faith (grades 1st-6th)\, Girls of Grace (grades 1st-6th).
URL:https://ihcc.org/event/evening-worship-service-2-2-2-2-2-2-3/2026-09-06/
LOCATION:Auditorium\, 1000 S. 84th St.\, Lincoln\, 68505\, United States
CATEGORIES:Adult Ministries
END:VEVENT
BEGIN:VEVENT
DTSTART;TZID=America/Chicago:20260907T180000
DTEND;TZID=America/Chicago:20260907T193000
DTSTAMP:20260425T071352
CREATED:20260416T205142Z
LAST-MODIFIED:20260416T210737Z
UID:10010262-1788804000-1788809400@ihcc.org
SUMMARY:Door-to-Door Evangelism
DESCRIPTION:Join us as we go door-to-door in various Lincoln neighborhoods bringing the Good News of the Gospel ! \nYou will get paired up with a seasoned evangelist if you’re new to this. We meet in the South Lobby at 6:00 pm \nWe go out each Monday night through the Summer and early Fall until daylight and weather determines otherwise.
URL:https://ihcc.org/event/door-to-door-evangelism/2026-09-07/
CATEGORIES:Adult Ministries,Evangelism Ministry
END:VEVENT
BEGIN:VEVENT
DTSTART;TZID=America/Chicago:20260913T100000
DTEND;TZID=America/Chicago:20260913T113000
DTSTAMP:20260425T071352
CREATED:20250819T155842Z
LAST-MODIFIED:20260112T210011Z
UID:10008623-1789293600-1789299000@ihcc.org
SUMMARY:Morning Worship Service
DESCRIPTION:Join us every Sunday morning for our main worship service. Nursery for young children provided\, as well as children’s church for elementary children.
URL:https://ihcc.org/event/morning-worship-service-2-2-2-2-3-2-3/2026-09-13/
LOCATION:Auditorium\, 1000 S. 84th St.\, Lincoln\, 68505\, United States
CATEGORIES:Adult Ministries
END:VEVENT
BEGIN:VEVENT
DTSTART;TZID=America/Chicago:20260913T180000
DTEND;TZID=America/Chicago:20260913T193000
DTSTAMP:20260425T071352
CREATED:20250819T161745Z
LAST-MODIFIED:20250819T163229Z
UID:10008656-1789322400-1789327800@ihcc.org
SUMMARY:Evening Worship Service
DESCRIPTION:Join us every Sunday evening for worship and the continued study of God’s Word. Nursery for young children provided\, and we also offer special children’s programs – Sonshine Kids (ages 4-Kindergarten)\, Boys of Faith (grades 1st-6th)\, Girls of Grace (grades 1st-6th).
URL:https://ihcc.org/event/evening-worship-service-2-2-2-2-2-2-3/2026-09-13/
LOCATION:Auditorium\, 1000 S. 84th St.\, Lincoln\, 68505\, United States
CATEGORIES:Adult Ministries
END:VEVENT
BEGIN:VEVENT
DTSTART;TZID=America/Chicago:20260914T180000
DTEND;TZID=America/Chicago:20260914T193000
DTSTAMP:20260425T071352
CREATED:20260416T205142Z
LAST-MODIFIED:20260416T210737Z
UID:10010263-1789408800-1789414200@ihcc.org
SUMMARY:Door-to-Door Evangelism
DESCRIPTION:Join us as we go door-to-door in various Lincoln neighborhoods bringing the Good News of the Gospel ! \nYou will get paired up with a seasoned evangelist if you’re new to this. We meet in the South Lobby at 6:00 pm \nWe go out each Monday night through the Summer and early Fall until daylight and weather determines otherwise.
URL:https://ihcc.org/event/door-to-door-evangelism/2026-09-14/
CATEGORIES:Adult Ministries,Evangelism Ministry
END:VEVENT
BEGIN:VEVENT
DTSTART;TZID=America/Chicago:20260920T100000
DTEND;TZID=America/Chicago:20260920T113000
DTSTAMP:20260425T071352
CREATED:20250819T155842Z
LAST-MODIFIED:20260112T210011Z
UID:10008624-1789898400-1789903800@ihcc.org
SUMMARY:Morning Worship Service
DESCRIPTION:Join us every Sunday morning for our main worship service. Nursery for young children provided\, as well as children’s church for elementary children.
URL:https://ihcc.org/event/morning-worship-service-2-2-2-2-3-2-3/2026-09-20/
LOCATION:Auditorium\, 1000 S. 84th St.\, Lincoln\, 68505\, United States
CATEGORIES:Adult Ministries
END:VEVENT
BEGIN:VEVENT
DTSTART;TZID=America/Chicago:20260920T180000
DTEND;TZID=America/Chicago:20260920T193000
DTSTAMP:20260425T071352
CREATED:20250819T161745Z
LAST-MODIFIED:20250819T163229Z
UID:10008657-1789927200-1789932600@ihcc.org
SUMMARY:Evening Worship Service
DESCRIPTION:Join us every Sunday evening for worship and the continued study of God’s Word. Nursery for young children provided\, and we also offer special children’s programs – Sonshine Kids (ages 4-Kindergarten)\, Boys of Faith (grades 1st-6th)\, Girls of Grace (grades 1st-6th).
URL:https://ihcc.org/event/evening-worship-service-2-2-2-2-2-2-3/2026-09-20/
LOCATION:Auditorium\, 1000 S. 84th St.\, Lincoln\, 68505\, United States
CATEGORIES:Adult Ministries
END:VEVENT
BEGIN:VEVENT
DTSTART;TZID=America/Chicago:20260921T180000
DTEND;TZID=America/Chicago:20260921T193000
DTSTAMP:20260425T071352
CREATED:20260416T205142Z
LAST-MODIFIED:20260416T210737Z
UID:10010264-1790013600-1790019000@ihcc.org
SUMMARY:Door-to-Door Evangelism
DESCRIPTION:Join us as we go door-to-door in various Lincoln neighborhoods bringing the Good News of the Gospel ! \nYou will get paired up with a seasoned evangelist if you’re new to this. We meet in the South Lobby at 6:00 pm \nWe go out each Monday night through the Summer and early Fall until daylight and weather determines otherwise.
URL:https://ihcc.org/event/door-to-door-evangelism/2026-09-21/
CATEGORIES:Adult Ministries,Evangelism Ministry
END:VEVENT
BEGIN:VEVENT
DTSTART;TZID=America/Chicago:20260927T100000
DTEND;TZID=America/Chicago:20260927T113000
DTSTAMP:20260425T071352
CREATED:20250819T155842Z
LAST-MODIFIED:20260112T210011Z
UID:10008625-1790503200-1790508600@ihcc.org
SUMMARY:Morning Worship Service
DESCRIPTION:Join us every Sunday morning for our main worship service. Nursery for young children provided\, as well as children’s church for elementary children.
URL:https://ihcc.org/event/morning-worship-service-2-2-2-2-3-2-3/2026-09-27/
LOCATION:Auditorium\, 1000 S. 84th St.\, Lincoln\, 68505\, United States
CATEGORIES:Adult Ministries
END:VEVENT
BEGIN:VEVENT
DTSTART;TZID=America/Chicago:20260927T180000
DTEND;TZID=America/Chicago:20260927T193000
DTSTAMP:20260425T071352
CREATED:20250819T161745Z
LAST-MODIFIED:20250819T163229Z
UID:10008658-1790532000-1790537400@ihcc.org
SUMMARY:Evening Worship Service
DESCRIPTION:Join us every Sunday evening for worship and the continued study of God’s Word. Nursery for young children provided\, and we also offer special children’s programs – Sonshine Kids (ages 4-Kindergarten)\, Boys of Faith (grades 1st-6th)\, Girls of Grace (grades 1st-6th).
URL:https://ihcc.org/event/evening-worship-service-2-2-2-2-2-2-3/2026-09-27/
LOCATION:Auditorium\, 1000 S. 84th St.\, Lincoln\, 68505\, United States
CATEGORIES:Adult Ministries
END:VEVENT
BEGIN:VEVENT
DTSTART;TZID=America/Chicago:20260928T180000
DTEND;TZID=America/Chicago:20260928T193000
DTSTAMP:20260425T071352
CREATED:20260416T205142Z
LAST-MODIFIED:20260416T210737Z
UID:10010265-1790618400-1790623800@ihcc.org
SUMMARY:Door-to-Door Evangelism
DESCRIPTION:Join us as we go door-to-door in various Lincoln neighborhoods bringing the Good News of the Gospel ! \nYou will get paired up with a seasoned evangelist if you’re new to this. We meet in the South Lobby at 6:00 pm \nWe go out each Monday night through the Summer and early Fall until daylight and weather determines otherwise.
URL:https://ihcc.org/event/door-to-door-evangelism/2026-09-28/
CATEGORIES:Adult Ministries,Evangelism Ministry
END:VEVENT
BEGIN:VEVENT
DTSTART;TZID=America/Chicago:20261004T100000
DTEND;TZID=America/Chicago:20261004T113000
DTSTAMP:20260425T071352
CREATED:20250819T155842Z
LAST-MODIFIED:20260112T210011Z
UID:10008626-1791108000-1791113400@ihcc.org
SUMMARY:Morning Worship Service
DESCRIPTION:Join us every Sunday morning for our main worship service. Nursery for young children provided\, as well as children’s church for elementary children.
URL:https://ihcc.org/event/morning-worship-service-2-2-2-2-3-2-3/2026-10-04/
LOCATION:Auditorium\, 1000 S. 84th St.\, Lincoln\, 68505\, United States
CATEGORIES:Adult Ministries
END:VEVENT
BEGIN:VEVENT
DTSTART;TZID=America/Chicago:20261004T180000
DTEND;TZID=America/Chicago:20261004T193000
DTSTAMP:20260425T071352
CREATED:20250819T161745Z
LAST-MODIFIED:20250819T163229Z
UID:10008659-1791136800-1791142200@ihcc.org
SUMMARY:Evening Worship Service
DESCRIPTION:Join us every Sunday evening for worship and the continued study of God’s Word. Nursery for young children provided\, and we also offer special children’s programs – Sonshine Kids (ages 4-Kindergarten)\, Boys of Faith (grades 1st-6th)\, Girls of Grace (grades 1st-6th).
URL:https://ihcc.org/event/evening-worship-service-2-2-2-2-2-2-3/2026-10-04/
LOCATION:Auditorium\, 1000 S. 84th St.\, Lincoln\, 68505\, United States
CATEGORIES:Adult Ministries
END:VEVENT
BEGIN:VEVENT
DTSTART;TZID=America/Chicago:20261005T180000
DTEND;TZID=America/Chicago:20261005T193000
DTSTAMP:20260425T071352
CREATED:20260416T205142Z
LAST-MODIFIED:20260416T210737Z
UID:10010266-1791223200-1791228600@ihcc.org
SUMMARY:Door-to-Door Evangelism
DESCRIPTION:Join us as we go door-to-door in various Lincoln neighborhoods bringing the Good News of the Gospel ! \nYou will get paired up with a seasoned evangelist if you’re new to this. We meet in the South Lobby at 6:00 pm \nWe go out each Monday night through the Summer and early Fall until daylight and weather determines otherwise.
URL:https://ihcc.org/event/door-to-door-evangelism/2026-10-05/
CATEGORIES:Adult Ministries,Evangelism Ministry
END:VEVENT
BEGIN:VEVENT
DTSTART;TZID=America/Chicago:20261011T100000
DTEND;TZID=America/Chicago:20261011T113000
DTSTAMP:20260425T071352
CREATED:20250819T155842Z
LAST-MODIFIED:20260112T210011Z
UID:10008627-1791712800-1791718200@ihcc.org
SUMMARY:Morning Worship Service
DESCRIPTION:Join us every Sunday morning for our main worship service. Nursery for young children provided\, as well as children’s church for elementary children.
URL:https://ihcc.org/event/morning-worship-service-2-2-2-2-3-2-3/2026-10-11/
LOCATION:Auditorium\, 1000 S. 84th St.\, Lincoln\, 68505\, United States
CATEGORIES:Adult Ministries
END:VEVENT
BEGIN:VEVENT
DTSTART;TZID=America/Chicago:20261011T180000
DTEND;TZID=America/Chicago:20261011T193000
DTSTAMP:20260425T071352
CREATED:20250819T161745Z
LAST-MODIFIED:20250819T163229Z
UID:10008660-1791741600-1791747000@ihcc.org
SUMMARY:Evening Worship Service
DESCRIPTION:Join us every Sunday evening for worship and the continued study of God’s Word. Nursery for young children provided\, and we also offer special children’s programs – Sonshine Kids (ages 4-Kindergarten)\, Boys of Faith (grades 1st-6th)\, Girls of Grace (grades 1st-6th).
URL:https://ihcc.org/event/evening-worship-service-2-2-2-2-2-2-3/2026-10-11/
LOCATION:Auditorium\, 1000 S. 84th St.\, Lincoln\, 68505\, United States
CATEGORIES:Adult Ministries
END:VEVENT
BEGIN:VEVENT
DTSTART;TZID=America/Chicago:20261012T180000
DTEND;TZID=America/Chicago:20261012T193000
DTSTAMP:20260425T071352
CREATED:20260416T205142Z
LAST-MODIFIED:20260416T210737Z
UID:10010267-1791828000-1791833400@ihcc.org
SUMMARY:Door-to-Door Evangelism
DESCRIPTION:Join us as we go door-to-door in various Lincoln neighborhoods bringing the Good News of the Gospel ! \nYou will get paired up with a seasoned evangelist if you’re new to this. We meet in the South Lobby at 6:00 pm \nWe go out each Monday night through the Summer and early Fall until daylight and weather determines otherwise.
URL:https://ihcc.org/event/door-to-door-evangelism/2026-10-12/
CATEGORIES:Adult Ministries,Evangelism Ministry
END:VEVENT
BEGIN:VEVENT
DTSTART;TZID=America/Chicago:20261018T100000
DTEND;TZID=America/Chicago:20261018T113000
DTSTAMP:20260425T071352
CREATED:20250819T155842Z
LAST-MODIFIED:20260112T210011Z
UID:10008628-1792317600-1792323000@ihcc.org
SUMMARY:Morning Worship Service
DESCRIPTION:Join us every Sunday morning for our main worship service. Nursery for young children provided\, as well as children’s church for elementary children.
URL:https://ihcc.org/event/morning-worship-service-2-2-2-2-3-2-3/2026-10-18/
LOCATION:Auditorium\, 1000 S. 84th St.\, Lincoln\, 68505\, United States
CATEGORIES:Adult Ministries
END:VEVENT
BEGIN:VEVENT
DTSTART;TZID=America/Chicago:20261018T180000
DTEND;TZID=America/Chicago:20261018T193000
DTSTAMP:20260425T071352
CREATED:20250819T161745Z
LAST-MODIFIED:20250819T163229Z
UID:10008661-1792346400-1792351800@ihcc.org
SUMMARY:Evening Worship Service
DESCRIPTION:Join us every Sunday evening for worship and the continued study of God’s Word. Nursery for young children provided\, and we also offer special children’s programs – Sonshine Kids (ages 4-Kindergarten)\, Boys of Faith (grades 1st-6th)\, Girls of Grace (grades 1st-6th).
URL:https://ihcc.org/event/evening-worship-service-2-2-2-2-2-2-3/2026-10-18/
LOCATION:Auditorium\, 1000 S. 84th St.\, Lincoln\, 68505\, United States
CATEGORIES:Adult Ministries
END:VEVENT
BEGIN:VEVENT
DTSTART;TZID=America/Chicago:20261019T180000
DTEND;TZID=America/Chicago:20261019T193000
DTSTAMP:20260425T071352
CREATED:20260416T205142Z
LAST-MODIFIED:20260416T210737Z
UID:10010268-1792432800-1792438200@ihcc.org
SUMMARY:Door-to-Door Evangelism
DESCRIPTION:Join us as we go door-to-door in various Lincoln neighborhoods bringing the Good News of the Gospel ! \nYou will get paired up with a seasoned evangelist if you’re new to this. We meet in the South Lobby at 6:00 pm \nWe go out each Monday night through the Summer and early Fall until daylight and weather determines otherwise.
URL:https://ihcc.org/event/door-to-door-evangelism/2026-10-19/
CATEGORIES:Adult Ministries,Evangelism Ministry
END:VEVENT
BEGIN:VEVENT
DTSTART;TZID=America/Chicago:20261025T100000
DTEND;TZID=America/Chicago:20261025T113000
DTSTAMP:20260425T071352
CREATED:20250819T155842Z
LAST-MODIFIED:20260112T210011Z
UID:10008629-1792922400-1792927800@ihcc.org
SUMMARY:Morning Worship Service
DESCRIPTION:Join us every Sunday morning for our main worship service. Nursery for young children provided\, as well as children’s church for elementary children.
URL:https://ihcc.org/event/morning-worship-service-2-2-2-2-3-2-3/2026-10-25/
LOCATION:Auditorium\, 1000 S. 84th St.\, Lincoln\, 68505\, United States
CATEGORIES:Adult Ministries
END:VEVENT
BEGIN:VEVENT
DTSTART;TZID=America/Chicago:20261025T180000
DTEND;TZID=America/Chicago:20261025T193000
DTSTAMP:20260425T071352
CREATED:20250819T161745Z
LAST-MODIFIED:20250819T163229Z
UID:10008662-1792951200-1792956600@ihcc.org
SUMMARY:Evening Worship Service
DESCRIPTION:Join us every Sunday evening for worship and the continued study of God’s Word. Nursery for young children provided\, and we also offer special children’s programs – Sonshine Kids (ages 4-Kindergarten)\, Boys of Faith (grades 1st-6th)\, Girls of Grace (grades 1st-6th).
URL:https://ihcc.org/event/evening-worship-service-2-2-2-2-2-2-3/2026-10-25/
LOCATION:Auditorium\, 1000 S. 84th St.\, Lincoln\, 68505\, United States
CATEGORIES:Adult Ministries
END:VEVENT
BEGIN:VEVENT
DTSTART;TZID=America/Chicago:20261026T180000
DTEND;TZID=America/Chicago:20261026T193000
DTSTAMP:20260425T071352
CREATED:20260416T205142Z
LAST-MODIFIED:20260416T210737Z
UID:10010269-1793037600-1793043000@ihcc.org
SUMMARY:Door-to-Door Evangelism
DESCRIPTION:Join us as we go door-to-door in various Lincoln neighborhoods bringing the Good News of the Gospel ! \nYou will get paired up with a seasoned evangelist if you’re new to this. We meet in the South Lobby at 6:00 pm \nWe go out each Monday night through the Summer and early Fall until daylight and weather determines otherwise.
URL:https://ihcc.org/event/door-to-door-evangelism/2026-10-26/
CATEGORIES:Adult Ministries,Evangelism Ministry
END:VEVENT
BEGIN:VEVENT
DTSTART;TZID=America/Chicago:20261101T100000
DTEND;TZID=America/Chicago:20261101T113000
DTSTAMP:20260425T071352
CREATED:20250819T155842Z
LAST-MODIFIED:20260112T210011Z
UID:10008630-1793527200-1793532600@ihcc.org
SUMMARY:Morning Worship Service
DESCRIPTION:Join us every Sunday morning for our main worship service. Nursery for young children provided\, as well as children’s church for elementary children.
URL:https://ihcc.org/event/morning-worship-service-2-2-2-2-3-2-3/2026-11-01/
LOCATION:Auditorium\, 1000 S. 84th St.\, Lincoln\, 68505\, United States
CATEGORIES:Adult Ministries
END:VEVENT
BEGIN:VEVENT
DTSTART;TZID=America/Chicago:20261101T180000
DTEND;TZID=America/Chicago:20261101T193000
DTSTAMP:20260425T071352
CREATED:20250819T161745Z
LAST-MODIFIED:20250819T163229Z
UID:10008663-1793556000-1793561400@ihcc.org
SUMMARY:Evening Worship Service
DESCRIPTION:Join us every Sunday evening for worship and the continued study of God’s Word. Nursery for young children provided\, and we also offer special children’s programs – Sonshine Kids (ages 4-Kindergarten)\, Boys of Faith (grades 1st-6th)\, Girls of Grace (grades 1st-6th).
URL:https://ihcc.org/event/evening-worship-service-2-2-2-2-2-2-3/2026-11-01/
LOCATION:Auditorium\, 1000 S. 84th St.\, Lincoln\, 68505\, United States
CATEGORIES:Adult Ministries
END:VEVENT
BEGIN:VEVENT
DTSTART;TZID=America/Chicago:20261102T180000
DTEND;TZID=America/Chicago:20261102T193000
DTSTAMP:20260425T071352
CREATED:20260416T205142Z
LAST-MODIFIED:20260416T210737Z
UID:10010270-1793642400-1793647800@ihcc.org
SUMMARY:Door-to-Door Evangelism
DESCRIPTION:Join us as we go door-to-door in various Lincoln neighborhoods bringing the Good News of the Gospel ! \nYou will get paired up with a seasoned evangelist if you’re new to this. We meet in the South Lobby at 6:00 pm \nWe go out each Monday night through the Summer and early Fall until daylight and weather determines otherwise.
URL:https://ihcc.org/event/door-to-door-evangelism/2026-11-02/
CATEGORIES:Adult Ministries,Evangelism Ministry
END:VEVENT
BEGIN:VEVENT
DTSTART;VALUE=DATE:20261106
DTEND;VALUE=DATE:20261108
DTSTAMP:20260425T071352
CREATED:20251230T171009Z
LAST-MODIFIED:20251230T171009Z
UID:10009977-1793923200-1794095999@ihcc.org
SUMMARY:Marriage Conference
DESCRIPTION:
URL:https://ihcc.org/event/marriage-conference/
LOCATION:Auditorium\, 1000 S. 84th St.\, Lincoln\, 68505\, United States
CATEGORIES:Adult Ministries
ORGANIZER;CN="Andrew Thomas":MAILTO:andrew.thomas@ihcc.org
END:VEVENT
END:VCALENDAR