BEGIN:VCALENDAR
VERSION:2.0
PRODID:-//Indian Hills Community Church - ECPv6.15.20//NONSGML v1.0//EN
CALSCALE:GREGORIAN
METHOD:PUBLISH
X-WR-CALNAME:Indian Hills Community Church
X-ORIGINAL-URL:https://ihcc.org
X-WR-CALDESC:Events for Indian Hills Community Church
REFRESH-INTERVAL;VALUE=DURATION:PT1H
X-Robots-Tag:noindex
X-PUBLISHED-TTL:PT1H
BEGIN:VTIMEZONE
TZID:America/Chicago
BEGIN:DAYLIGHT
TZOFFSETFROM:-0600
TZOFFSETTO:-0500
TZNAME:CDT
DTSTART:20250309T080000
END:DAYLIGHT
BEGIN:STANDARD
TZOFFSETFROM:-0500
TZOFFSETTO:-0600
TZNAME:CST
DTSTART:20251102T070000
END:STANDARD
BEGIN:DAYLIGHT
TZOFFSETFROM:-0600
TZOFFSETTO:-0500
TZNAME:CDT
DTSTART:20260308T080000
END:DAYLIGHT
BEGIN:STANDARD
TZOFFSETFROM:-0500
TZOFFSETTO:-0600
TZNAME:CST
DTSTART:20261101T070000
END:STANDARD
BEGIN:DAYLIGHT
TZOFFSETFROM:-0600
TZOFFSETTO:-0500
TZNAME:CDT
DTSTART:20270314T080000
END:DAYLIGHT
BEGIN:STANDARD
TZOFFSETFROM:-0500
TZOFFSETTO:-0600
TZNAME:CST
DTSTART:20271107T070000
END:STANDARD
END:VTIMEZONE
BEGIN:VEVENT
DTSTART;TZID=America/Chicago:20260614T100000
DTEND;TZID=America/Chicago:20260614T113000
DTSTAMP:20260425T075123
CREATED:20250819T155842Z
LAST-MODIFIED:20260112T210011Z
UID:10008610-1781431200-1781436600@ihcc.org
SUMMARY:Morning Worship Service
DESCRIPTION:Join us every Sunday morning for our main worship service. Nursery for young children provided\, as well as children’s church for elementary children.
URL:https://ihcc.org/event/morning-worship-service-2-2-2-2-3-2-3/2026-06-14/
LOCATION:Auditorium\, 1000 S. 84th St.\, Lincoln\, 68505\, United States
CATEGORIES:Adult Ministries
END:VEVENT
BEGIN:VEVENT
DTSTART;TZID=America/Chicago:20260614T180000
DTEND;TZID=America/Chicago:20260614T193000
DTSTAMP:20260425T075123
CREATED:20250819T161745Z
LAST-MODIFIED:20250819T163229Z
UID:10008643-1781460000-1781465400@ihcc.org
SUMMARY:Evening Worship Service
DESCRIPTION:Join us every Sunday evening for worship and the continued study of God’s Word. Nursery for young children provided\, and we also offer special children’s programs – Sonshine Kids (ages 4-Kindergarten)\, Boys of Faith (grades 1st-6th)\, Girls of Grace (grades 1st-6th).
URL:https://ihcc.org/event/evening-worship-service-2-2-2-2-2-2-3/2026-06-14/
LOCATION:Auditorium\, 1000 S. 84th St.\, Lincoln\, 68505\, United States
CATEGORIES:Adult Ministries
END:VEVENT
BEGIN:VEVENT
DTSTART;TZID=America/Chicago:20260615T000000
DTEND;TZID=America/Chicago:20260619T000000
DTSTAMP:20260425T075123
CREATED:20260323T131455Z
LAST-MODIFIED:20260323T131455Z
UID:10010185-1781481600-1781827200@ihcc.org
SUMMARY:Summer Theology Class
DESCRIPTION:Further details to come.
URL:https://ihcc.org/event/summer-theology-class/
LOCATION:Bible Learning Center\, 1000 S. 84th ST.\, Lincoln\, 68505\, United States
CATEGORIES:Adult Ministries
END:VEVENT
BEGIN:VEVENT
DTSTART;TZID=America/Chicago:20260615T180000
DTEND;TZID=America/Chicago:20260615T193000
DTSTAMP:20260425T075123
CREATED:20260416T205142Z
LAST-MODIFIED:20260416T210737Z
UID:10010250-1781546400-1781551800@ihcc.org
SUMMARY:Door-to-Door Evangelism
DESCRIPTION:Join us as we go door-to-door in various Lincoln neighborhoods bringing the Good News of the Gospel ! \nYou will get paired up with a seasoned evangelist if you’re new to this. We meet in the South Lobby at 6:00 pm \nWe go out each Monday night through the Summer and early Fall until daylight and weather determines otherwise.
URL:https://ihcc.org/event/door-to-door-evangelism/2026-06-15/
CATEGORIES:Adult Ministries,Evangelism Ministry
END:VEVENT
BEGIN:VEVENT
DTSTART;TZID=America/Chicago:20260621T100000
DTEND;TZID=America/Chicago:20260621T113000
DTSTAMP:20260425T075123
CREATED:20250819T155842Z
LAST-MODIFIED:20260112T210011Z
UID:10008611-1782036000-1782041400@ihcc.org
SUMMARY:Morning Worship Service
DESCRIPTION:Join us every Sunday morning for our main worship service. Nursery for young children provided\, as well as children’s church for elementary children.
URL:https://ihcc.org/event/morning-worship-service-2-2-2-2-3-2-3/2026-06-21/
LOCATION:Auditorium\, 1000 S. 84th St.\, Lincoln\, 68505\, United States
CATEGORIES:Adult Ministries
END:VEVENT
BEGIN:VEVENT
DTSTART;TZID=America/Chicago:20260621T180000
DTEND;TZID=America/Chicago:20260621T193000
DTSTAMP:20260425T075123
CREATED:20250819T161745Z
LAST-MODIFIED:20250819T163229Z
UID:10008644-1782064800-1782070200@ihcc.org
SUMMARY:Evening Worship Service
DESCRIPTION:Join us every Sunday evening for worship and the continued study of God’s Word. Nursery for young children provided\, and we also offer special children’s programs – Sonshine Kids (ages 4-Kindergarten)\, Boys of Faith (grades 1st-6th)\, Girls of Grace (grades 1st-6th).
URL:https://ihcc.org/event/evening-worship-service-2-2-2-2-2-2-3/2026-06-21/
LOCATION:Auditorium\, 1000 S. 84th St.\, Lincoln\, 68505\, United States
CATEGORIES:Adult Ministries
END:VEVENT
BEGIN:VEVENT
DTSTART;TZID=America/Chicago:20260622T180000
DTEND;TZID=America/Chicago:20260622T193000
DTSTAMP:20260425T075123
CREATED:20260416T205142Z
LAST-MODIFIED:20260416T210737Z
UID:10010251-1782151200-1782156600@ihcc.org
SUMMARY:Door-to-Door Evangelism
DESCRIPTION:Join us as we go door-to-door in various Lincoln neighborhoods bringing the Good News of the Gospel ! \nYou will get paired up with a seasoned evangelist if you’re new to this. We meet in the South Lobby at 6:00 pm \nWe go out each Monday night through the Summer and early Fall until daylight and weather determines otherwise.
URL:https://ihcc.org/event/door-to-door-evangelism/2026-06-22/
CATEGORIES:Adult Ministries,Evangelism Ministry
END:VEVENT
BEGIN:VEVENT
DTSTART;TZID=America/Chicago:20260628T100000
DTEND;TZID=America/Chicago:20260628T113000
DTSTAMP:20260425T075123
CREATED:20250819T155842Z
LAST-MODIFIED:20260112T210011Z
UID:10008612-1782640800-1782646200@ihcc.org
SUMMARY:Morning Worship Service
DESCRIPTION:Join us every Sunday morning for our main worship service. Nursery for young children provided\, as well as children’s church for elementary children.
URL:https://ihcc.org/event/morning-worship-service-2-2-2-2-3-2-3/2026-06-28/
LOCATION:Auditorium\, 1000 S. 84th St.\, Lincoln\, 68505\, United States
CATEGORIES:Adult Ministries
END:VEVENT
BEGIN:VEVENT
DTSTART;TZID=America/Chicago:20260628T180000
DTEND;TZID=America/Chicago:20260628T193000
DTSTAMP:20260425T075123
CREATED:20250819T161745Z
LAST-MODIFIED:20250819T163229Z
UID:10008645-1782669600-1782675000@ihcc.org
SUMMARY:Evening Worship Service
DESCRIPTION:Join us every Sunday evening for worship and the continued study of God’s Word. Nursery for young children provided\, and we also offer special children’s programs – Sonshine Kids (ages 4-Kindergarten)\, Boys of Faith (grades 1st-6th)\, Girls of Grace (grades 1st-6th).
URL:https://ihcc.org/event/evening-worship-service-2-2-2-2-2-2-3/2026-06-28/
LOCATION:Auditorium\, 1000 S. 84th St.\, Lincoln\, 68505\, United States
CATEGORIES:Adult Ministries
END:VEVENT
BEGIN:VEVENT
DTSTART;TZID=America/Chicago:20260628T193000
DTEND;TZID=America/Chicago:20260628T210000
DTSTAMP:20260425T075123
CREATED:20260401T194516Z
LAST-MODIFIED:20260401T194516Z
UID:10010212-1782675000-1782680400@ihcc.org
SUMMARY:Food Truck Fellowship
DESCRIPTION:
URL:https://ihcc.org/event/food-truck-fellowship-2/2026-06-28/
LOCATION:Northeast Lawn
CATEGORIES:Adult Ministries,College Ministry,High School Ministry,Jr. High Ministry
END:VEVENT
BEGIN:VEVENT
DTSTART;TZID=America/Chicago:20260629T180000
DTEND;TZID=America/Chicago:20260629T193000
DTSTAMP:20260425T075123
CREATED:20260416T205142Z
LAST-MODIFIED:20260416T210737Z
UID:10010252-1782756000-1782761400@ihcc.org
SUMMARY:Door-to-Door Evangelism
DESCRIPTION:Join us as we go door-to-door in various Lincoln neighborhoods bringing the Good News of the Gospel ! \nYou will get paired up with a seasoned evangelist if you’re new to this. We meet in the South Lobby at 6:00 pm \nWe go out each Monday night through the Summer and early Fall until daylight and weather determines otherwise.
URL:https://ihcc.org/event/door-to-door-evangelism/2026-06-29/
CATEGORIES:Adult Ministries,Evangelism Ministry
END:VEVENT
BEGIN:VEVENT
DTSTART;TZID=America/Chicago:20260705T100000
DTEND;TZID=America/Chicago:20260705T113000
DTSTAMP:20260425T075123
CREATED:20250819T155842Z
LAST-MODIFIED:20260112T210011Z
UID:10008613-1783245600-1783251000@ihcc.org
SUMMARY:Morning Worship Service
DESCRIPTION:Join us every Sunday morning for our main worship service. Nursery for young children provided\, as well as children’s church for elementary children.
URL:https://ihcc.org/event/morning-worship-service-2-2-2-2-3-2-3/2026-07-05/
LOCATION:Auditorium\, 1000 S. 84th St.\, Lincoln\, 68505\, United States
CATEGORIES:Adult Ministries
END:VEVENT
BEGIN:VEVENT
DTSTART;TZID=America/Chicago:20260705T180000
DTEND;TZID=America/Chicago:20260705T193000
DTSTAMP:20260425T075123
CREATED:20250819T161745Z
LAST-MODIFIED:20250819T163229Z
UID:10008646-1783274400-1783279800@ihcc.org
SUMMARY:Evening Worship Service
DESCRIPTION:Join us every Sunday evening for worship and the continued study of God’s Word. Nursery for young children provided\, and we also offer special children’s programs – Sonshine Kids (ages 4-Kindergarten)\, Boys of Faith (grades 1st-6th)\, Girls of Grace (grades 1st-6th).
URL:https://ihcc.org/event/evening-worship-service-2-2-2-2-2-2-3/2026-07-05/
LOCATION:Auditorium\, 1000 S. 84th St.\, Lincoln\, 68505\, United States
CATEGORIES:Adult Ministries
END:VEVENT
BEGIN:VEVENT
DTSTART;TZID=America/Chicago:20260706T180000
DTEND;TZID=America/Chicago:20260706T193000
DTSTAMP:20260425T075123
CREATED:20260416T205142Z
LAST-MODIFIED:20260416T210737Z
UID:10010253-1783360800-1783366200@ihcc.org
SUMMARY:Door-to-Door Evangelism
DESCRIPTION:Join us as we go door-to-door in various Lincoln neighborhoods bringing the Good News of the Gospel ! \nYou will get paired up with a seasoned evangelist if you’re new to this. We meet in the South Lobby at 6:00 pm \nWe go out each Monday night through the Summer and early Fall until daylight and weather determines otherwise.
URL:https://ihcc.org/event/door-to-door-evangelism/2026-07-06/
CATEGORIES:Adult Ministries,Evangelism Ministry
END:VEVENT
BEGIN:VEVENT
DTSTART;TZID=America/Chicago:20260712T100000
DTEND;TZID=America/Chicago:20260712T113000
DTSTAMP:20260425T075123
CREATED:20250819T155842Z
LAST-MODIFIED:20260112T210011Z
UID:10008614-1783850400-1783855800@ihcc.org
SUMMARY:Morning Worship Service
DESCRIPTION:Join us every Sunday morning for our main worship service. Nursery for young children provided\, as well as children’s church for elementary children.
URL:https://ihcc.org/event/morning-worship-service-2-2-2-2-3-2-3/2026-07-12/
LOCATION:Auditorium\, 1000 S. 84th St.\, Lincoln\, 68505\, United States
CATEGORIES:Adult Ministries
END:VEVENT
BEGIN:VEVENT
DTSTART;TZID=America/Chicago:20260712T180000
DTEND;TZID=America/Chicago:20260712T193000
DTSTAMP:20260425T075123
CREATED:20250819T161745Z
LAST-MODIFIED:20250819T163229Z
UID:10008647-1783879200-1783884600@ihcc.org
SUMMARY:Evening Worship Service
DESCRIPTION:Join us every Sunday evening for worship and the continued study of God’s Word. Nursery for young children provided\, and we also offer special children’s programs – Sonshine Kids (ages 4-Kindergarten)\, Boys of Faith (grades 1st-6th)\, Girls of Grace (grades 1st-6th).
URL:https://ihcc.org/event/evening-worship-service-2-2-2-2-2-2-3/2026-07-12/
LOCATION:Auditorium\, 1000 S. 84th St.\, Lincoln\, 68505\, United States
CATEGORIES:Adult Ministries
END:VEVENT
BEGIN:VEVENT
DTSTART;TZID=America/Chicago:20260713T180000
DTEND;TZID=America/Chicago:20260713T193000
DTSTAMP:20260425T075123
CREATED:20260416T205142Z
LAST-MODIFIED:20260416T210737Z
UID:10010254-1783965600-1783971000@ihcc.org
SUMMARY:Door-to-Door Evangelism
DESCRIPTION:Join us as we go door-to-door in various Lincoln neighborhoods bringing the Good News of the Gospel ! \nYou will get paired up with a seasoned evangelist if you’re new to this. We meet in the South Lobby at 6:00 pm \nWe go out each Monday night through the Summer and early Fall until daylight and weather determines otherwise.
URL:https://ihcc.org/event/door-to-door-evangelism/2026-07-13/
CATEGORIES:Adult Ministries,Evangelism Ministry
END:VEVENT
BEGIN:VEVENT
DTSTART;TZID=America/Chicago:20260719T100000
DTEND;TZID=America/Chicago:20260719T113000
DTSTAMP:20260425T075123
CREATED:20250819T155842Z
LAST-MODIFIED:20260112T210011Z
UID:10008615-1784455200-1784460600@ihcc.org
SUMMARY:Morning Worship Service
DESCRIPTION:Join us every Sunday morning for our main worship service. Nursery for young children provided\, as well as children’s church for elementary children.
URL:https://ihcc.org/event/morning-worship-service-2-2-2-2-3-2-3/2026-07-19/
LOCATION:Auditorium\, 1000 S. 84th St.\, Lincoln\, 68505\, United States
CATEGORIES:Adult Ministries
END:VEVENT
BEGIN:VEVENT
DTSTART;TZID=America/Chicago:20260719T180000
DTEND;TZID=America/Chicago:20260719T193000
DTSTAMP:20260425T075123
CREATED:20250819T161745Z
LAST-MODIFIED:20250819T163229Z
UID:10008648-1784484000-1784489400@ihcc.org
SUMMARY:Evening Worship Service
DESCRIPTION:Join us every Sunday evening for worship and the continued study of God’s Word. Nursery for young children provided\, and we also offer special children’s programs – Sonshine Kids (ages 4-Kindergarten)\, Boys of Faith (grades 1st-6th)\, Girls of Grace (grades 1st-6th).
URL:https://ihcc.org/event/evening-worship-service-2-2-2-2-2-2-3/2026-07-19/
LOCATION:Auditorium\, 1000 S. 84th St.\, Lincoln\, 68505\, United States
CATEGORIES:Adult Ministries
END:VEVENT
BEGIN:VEVENT
DTSTART;TZID=America/Chicago:20260720T180000
DTEND;TZID=America/Chicago:20260720T193000
DTSTAMP:20260425T075123
CREATED:20260416T205142Z
LAST-MODIFIED:20260416T210737Z
UID:10010255-1784570400-1784575800@ihcc.org
SUMMARY:Door-to-Door Evangelism
DESCRIPTION:Join us as we go door-to-door in various Lincoln neighborhoods bringing the Good News of the Gospel ! \nYou will get paired up with a seasoned evangelist if you’re new to this. We meet in the South Lobby at 6:00 pm \nWe go out each Monday night through the Summer and early Fall until daylight and weather determines otherwise.
URL:https://ihcc.org/event/door-to-door-evangelism/2026-07-20/
CATEGORIES:Adult Ministries,Evangelism Ministry
END:VEVENT
BEGIN:VEVENT
DTSTART;TZID=America/Chicago:20260726T100000
DTEND;TZID=America/Chicago:20260726T113000
DTSTAMP:20260425T075123
CREATED:20250819T155842Z
LAST-MODIFIED:20260112T210011Z
UID:10008616-1785060000-1785065400@ihcc.org
SUMMARY:Morning Worship Service
DESCRIPTION:Join us every Sunday morning for our main worship service. Nursery for young children provided\, as well as children’s church for elementary children.
URL:https://ihcc.org/event/morning-worship-service-2-2-2-2-3-2-3/2026-07-26/
LOCATION:Auditorium\, 1000 S. 84th St.\, Lincoln\, 68505\, United States
CATEGORIES:Adult Ministries
END:VEVENT
BEGIN:VEVENT
DTSTART;TZID=America/Chicago:20260726T180000
DTEND;TZID=America/Chicago:20260726T193000
DTSTAMP:20260425T075123
CREATED:20250819T161745Z
LAST-MODIFIED:20250819T163229Z
UID:10008649-1785088800-1785094200@ihcc.org
SUMMARY:Evening Worship Service
DESCRIPTION:Join us every Sunday evening for worship and the continued study of God’s Word. Nursery for young children provided\, and we also offer special children’s programs – Sonshine Kids (ages 4-Kindergarten)\, Boys of Faith (grades 1st-6th)\, Girls of Grace (grades 1st-6th).
URL:https://ihcc.org/event/evening-worship-service-2-2-2-2-2-2-3/2026-07-26/
LOCATION:Auditorium\, 1000 S. 84th St.\, Lincoln\, 68505\, United States
CATEGORIES:Adult Ministries
END:VEVENT
BEGIN:VEVENT
DTSTART;TZID=America/Chicago:20260727T180000
DTEND;TZID=America/Chicago:20260727T193000
DTSTAMP:20260425T075123
CREATED:20260416T205142Z
LAST-MODIFIED:20260416T210737Z
UID:10010256-1785175200-1785180600@ihcc.org
SUMMARY:Door-to-Door Evangelism
DESCRIPTION:Join us as we go door-to-door in various Lincoln neighborhoods bringing the Good News of the Gospel ! \nYou will get paired up with a seasoned evangelist if you’re new to this. We meet in the South Lobby at 6:00 pm \nWe go out each Monday night through the Summer and early Fall until daylight and weather determines otherwise.
URL:https://ihcc.org/event/door-to-door-evangelism/2026-07-27/
CATEGORIES:Adult Ministries,Evangelism Ministry
END:VEVENT
BEGIN:VEVENT
DTSTART;TZID=America/Chicago:20260802T100000
DTEND;TZID=America/Chicago:20260802T113000
DTSTAMP:20260425T075123
CREATED:20250819T155842Z
LAST-MODIFIED:20260112T210011Z
UID:10008617-1785664800-1785670200@ihcc.org
SUMMARY:Morning Worship Service
DESCRIPTION:Join us every Sunday morning for our main worship service. Nursery for young children provided\, as well as children’s church for elementary children.
URL:https://ihcc.org/event/morning-worship-service-2-2-2-2-3-2-3/2026-08-02/
LOCATION:Auditorium\, 1000 S. 84th St.\, Lincoln\, 68505\, United States
CATEGORIES:Adult Ministries
END:VEVENT
BEGIN:VEVENT
DTSTART;TZID=America/Chicago:20260802T180000
DTEND;TZID=America/Chicago:20260802T193000
DTSTAMP:20260425T075123
CREATED:20250819T161745Z
LAST-MODIFIED:20250819T163229Z
UID:10008650-1785693600-1785699000@ihcc.org
SUMMARY:Evening Worship Service
DESCRIPTION:Join us every Sunday evening for worship and the continued study of God’s Word. Nursery for young children provided\, and we also offer special children’s programs – Sonshine Kids (ages 4-Kindergarten)\, Boys of Faith (grades 1st-6th)\, Girls of Grace (grades 1st-6th).
URL:https://ihcc.org/event/evening-worship-service-2-2-2-2-2-2-3/2026-08-02/
LOCATION:Auditorium\, 1000 S. 84th St.\, Lincoln\, 68505\, United States
CATEGORIES:Adult Ministries
END:VEVENT
BEGIN:VEVENT
DTSTART;TZID=America/Chicago:20260803T180000
DTEND;TZID=America/Chicago:20260803T193000
DTSTAMP:20260425T075123
CREATED:20260416T205142Z
LAST-MODIFIED:20260416T210737Z
UID:10010257-1785780000-1785785400@ihcc.org
SUMMARY:Door-to-Door Evangelism
DESCRIPTION:Join us as we go door-to-door in various Lincoln neighborhoods bringing the Good News of the Gospel ! \nYou will get paired up with a seasoned evangelist if you’re new to this. We meet in the South Lobby at 6:00 pm \nWe go out each Monday night through the Summer and early Fall until daylight and weather determines otherwise.
URL:https://ihcc.org/event/door-to-door-evangelism/2026-08-03/
CATEGORIES:Adult Ministries,Evangelism Ministry
END:VEVENT
BEGIN:VEVENT
DTSTART;TZID=America/Chicago:20260809T100000
DTEND;TZID=America/Chicago:20260809T113000
DTSTAMP:20260425T075123
CREATED:20250819T155842Z
LAST-MODIFIED:20260112T210011Z
UID:10008618-1786269600-1786275000@ihcc.org
SUMMARY:Morning Worship Service
DESCRIPTION:Join us every Sunday morning for our main worship service. Nursery for young children provided\, as well as children’s church for elementary children.
URL:https://ihcc.org/event/morning-worship-service-2-2-2-2-3-2-3/2026-08-09/
LOCATION:Auditorium\, 1000 S. 84th St.\, Lincoln\, 68505\, United States
CATEGORIES:Adult Ministries
END:VEVENT
BEGIN:VEVENT
DTSTART;TZID=America/Chicago:20260809T180000
DTEND;TZID=America/Chicago:20260809T193000
DTSTAMP:20260425T075123
CREATED:20250819T161745Z
LAST-MODIFIED:20250819T163229Z
UID:10008651-1786298400-1786303800@ihcc.org
SUMMARY:Evening Worship Service
DESCRIPTION:Join us every Sunday evening for worship and the continued study of God’s Word. Nursery for young children provided\, and we also offer special children’s programs – Sonshine Kids (ages 4-Kindergarten)\, Boys of Faith (grades 1st-6th)\, Girls of Grace (grades 1st-6th).
URL:https://ihcc.org/event/evening-worship-service-2-2-2-2-2-2-3/2026-08-09/
LOCATION:Auditorium\, 1000 S. 84th St.\, Lincoln\, 68505\, United States
CATEGORIES:Adult Ministries
END:VEVENT
BEGIN:VEVENT
DTSTART;TZID=America/Chicago:20260810T180000
DTEND;TZID=America/Chicago:20260810T193000
DTSTAMP:20260425T075123
CREATED:20260416T205142Z
LAST-MODIFIED:20260416T210737Z
UID:10010258-1786384800-1786390200@ihcc.org
SUMMARY:Door-to-Door Evangelism
DESCRIPTION:Join us as we go door-to-door in various Lincoln neighborhoods bringing the Good News of the Gospel ! \nYou will get paired up with a seasoned evangelist if you’re new to this. We meet in the South Lobby at 6:00 pm \nWe go out each Monday night through the Summer and early Fall until daylight and weather determines otherwise.
URL:https://ihcc.org/event/door-to-door-evangelism/2026-08-10/
CATEGORIES:Adult Ministries,Evangelism Ministry
END:VEVENT
BEGIN:VEVENT
DTSTART;TZID=America/Chicago:20260816T100000
DTEND;TZID=America/Chicago:20260816T113000
DTSTAMP:20260425T075123
CREATED:20250819T155842Z
LAST-MODIFIED:20260112T210011Z
UID:10008619-1786874400-1786879800@ihcc.org
SUMMARY:Morning Worship Service
DESCRIPTION:Join us every Sunday morning for our main worship service. Nursery for young children provided\, as well as children’s church for elementary children.
URL:https://ihcc.org/event/morning-worship-service-2-2-2-2-3-2-3/2026-08-16/
LOCATION:Auditorium\, 1000 S. 84th St.\, Lincoln\, 68505\, United States
CATEGORIES:Adult Ministries
END:VEVENT
END:VCALENDAR