BEGIN:VCALENDAR
VERSION:2.0
PRODID:-//Indian Hills Community Church - ECPv6.15.20//NONSGML v1.0//EN
CALSCALE:GREGORIAN
METHOD:PUBLISH
X-ORIGINAL-URL:https://ihcc.org
X-WR-CALDESC:Events for Indian Hills Community Church
REFRESH-INTERVAL;VALUE=DURATION:PT1H
X-Robots-Tag:noindex
X-PUBLISHED-TTL:PT1H
BEGIN:VTIMEZONE
TZID:America/Chicago
BEGIN:DAYLIGHT
TZOFFSETFROM:-0600
TZOFFSETTO:-0500
TZNAME:CDT
DTSTART:20250309T080000
END:DAYLIGHT
BEGIN:STANDARD
TZOFFSETFROM:-0500
TZOFFSETTO:-0600
TZNAME:CST
DTSTART:20251102T070000
END:STANDARD
BEGIN:DAYLIGHT
TZOFFSETFROM:-0600
TZOFFSETTO:-0500
TZNAME:CDT
DTSTART:20260308T080000
END:DAYLIGHT
BEGIN:STANDARD
TZOFFSETFROM:-0500
TZOFFSETTO:-0600
TZNAME:CST
DTSTART:20261101T070000
END:STANDARD
BEGIN:DAYLIGHT
TZOFFSETFROM:-0600
TZOFFSETTO:-0500
TZNAME:CDT
DTSTART:20270314T080000
END:DAYLIGHT
BEGIN:STANDARD
TZOFFSETFROM:-0500
TZOFFSETTO:-0600
TZNAME:CST
DTSTART:20271107T070000
END:STANDARD
BEGIN:DAYLIGHT
TZOFFSETFROM:-0600
TZOFFSETTO:-0500
TZNAME:CDT
DTSTART:20280312T080000
END:DAYLIGHT
BEGIN:STANDARD
TZOFFSETFROM:-0500
TZOFFSETTO:-0600
TZNAME:CST
DTSTART:20281105T070000
END:STANDARD
BEGIN:DAYLIGHT
TZOFFSETFROM:-0600
TZOFFSETTO:-0500
TZNAME:CDT
DTSTART:20290311T080000
END:DAYLIGHT
BEGIN:STANDARD
TZOFFSETFROM:-0500
TZOFFSETTO:-0600
TZNAME:CST
DTSTART:20291104T070000
END:STANDARD
BEGIN:DAYLIGHT
TZOFFSETFROM:-0600
TZOFFSETTO:-0500
TZNAME:CDT
DTSTART:20300310T080000
END:DAYLIGHT
BEGIN:STANDARD
TZOFFSETFROM:-0500
TZOFFSETTO:-0600
TZNAME:CST
DTSTART:20301103T070000
END:STANDARD
END:VTIMEZONE
BEGIN:VEVENT
DTSTART;VALUE=DATE:20260801
DTEND;VALUE=DATE:20260805
DTSTAMP:20260424T183343
CREATED:20240111T014214Z
LAST-MODIFIED:20251219T164742Z
UID:10009051-1785542400-1785887999@ihcc.org
SUMMARY:Boys of Faith Summer Camp
DESCRIPTION:Meet us out at the lake (TBD) at 6pm on Friday to set up camp (eat before you come). We’ll provide food for all meals on Saturday and breakfast on Sunday. Activities are fishing\, campfire\, singing\, football/games\, and a testimony. All 2nd through 6th grade boys and their dads are invited.  \n 
URL:https://ihcc.org/event/boys-of-faith-summer-camp/
CATEGORIES:Boys of Faith
END:VEVENT
BEGIN:VEVENT
DTSTART;TZID=America/Chicago:20270328T180000
DTEND;TZID=America/Chicago:20270328T193000
DTSTAMP:20260424T183343
CREATED:20260218T161302Z
LAST-MODIFIED:20260218T161302Z
UID:10010160-1806256800-1806262200@ihcc.org
SUMMARY:Easter - No Evening Service
DESCRIPTION:
URL:https://ihcc.org/event/easter-no-evening-service/2027-03-28/
CATEGORIES:Adult Ministries,Boys of Faith,Children's Ministry,Girls of Grace,Music Ministry
END:VEVENT
BEGIN:VEVENT
DTSTART;TZID=America/Chicago:20280416T180000
DTEND;TZID=America/Chicago:20280416T193000
DTSTAMP:20260424T183343
CREATED:20260218T161302Z
LAST-MODIFIED:20260218T161302Z
UID:10010161-1839520800-1839526200@ihcc.org
SUMMARY:Easter - No Evening Service
DESCRIPTION:
URL:https://ihcc.org/event/easter-no-evening-service/2028-04-16/
CATEGORIES:Adult Ministries,Boys of Faith,Children's Ministry,Girls of Grace,Music Ministry
END:VEVENT
BEGIN:VEVENT
DTSTART;TZID=America/Chicago:20290401T180000
DTEND;TZID=America/Chicago:20290401T193000
DTSTAMP:20260424T183343
CREATED:20260218T161302Z
LAST-MODIFIED:20260218T161302Z
UID:10010162-1869760800-1869766200@ihcc.org
SUMMARY:Easter - No Evening Service
DESCRIPTION:
URL:https://ihcc.org/event/easter-no-evening-service/2029-04-01/
CATEGORIES:Adult Ministries,Boys of Faith,Children's Ministry,Girls of Grace,Music Ministry
END:VEVENT
END:VCALENDAR