BEGIN:VCALENDAR
VERSION:2.0
PRODID:-//Indian Hills Community Church - ECPv6.15.20//NONSGML v1.0//EN
CALSCALE:GREGORIAN
METHOD:PUBLISH
X-ORIGINAL-URL:https://ihcc.org
X-WR-CALDESC:Events for Indian Hills Community Church
REFRESH-INTERVAL;VALUE=DURATION:PT1H
X-Robots-Tag:noindex
X-PUBLISHED-TTL:PT1H
BEGIN:VTIMEZONE
TZID:America/Chicago
BEGIN:DAYLIGHT
TZOFFSETFROM:-0600
TZOFFSETTO:-0500
TZNAME:CDT
DTSTART:20250309T080000
END:DAYLIGHT
BEGIN:STANDARD
TZOFFSETFROM:-0500
TZOFFSETTO:-0600
TZNAME:CST
DTSTART:20251102T070000
END:STANDARD
BEGIN:DAYLIGHT
TZOFFSETFROM:-0600
TZOFFSETTO:-0500
TZNAME:CDT
DTSTART:20260308T080000
END:DAYLIGHT
BEGIN:STANDARD
TZOFFSETFROM:-0500
TZOFFSETTO:-0600
TZNAME:CST
DTSTART:20261101T070000
END:STANDARD
BEGIN:DAYLIGHT
TZOFFSETFROM:-0600
TZOFFSETTO:-0500
TZNAME:CDT
DTSTART:20270314T080000
END:DAYLIGHT
BEGIN:STANDARD
TZOFFSETFROM:-0500
TZOFFSETTO:-0600
TZNAME:CST
DTSTART:20271107T070000
END:STANDARD
END:VTIMEZONE
BEGIN:VEVENT
DTSTART;TZID=America/Chicago:20260412T183000
DTEND;TZID=America/Chicago:20260412T193000
DTSTAMP:20260425T061612
CREATED:20250904T164433Z
LAST-MODIFIED:20260218T163241Z
UID:10009895-1776018600-1776022200@ihcc.org
SUMMARY:Sonshine Kids
DESCRIPTION:Children from 4 years through kindergarten are invited to take part in the Sonshine Kids on Sunday nights. After sitting with their parents in the evening service music from 6:00 pm to 6:30 pm\, they are dismissed to rooms on the second floor for a time of Bible lessons and music until the end of the service at 7:30 pm.
URL:https://ihcc.org/event/sonshine-kids-2-2-2-2/2026-04-12/
LOCATION:Room 2324-25
CATEGORIES:Children's Ministry
END:VEVENT
BEGIN:VEVENT
DTSTART;TZID=America/Chicago:20260415T183000
DTEND;TZID=America/Chicago:20260415T200000
DTSTAMP:20260425T061612
CREATED:20250328T181133Z
LAST-MODIFIED:20250731T153850Z
UID:10007863-1776277800-1776283200@ihcc.org
SUMMARY:Adventure Club
DESCRIPTION:
URL:https://ihcc.org/event/adventure-club-2/2026-04-15/
LOCATION:Family Center\, 1000 S. 84th St.\, Lincoln\, NE\, 68505\, United States
CATEGORIES:Children's Ministry
END:VEVENT
BEGIN:VEVENT
DTSTART;TZID=America/Chicago:20260419T183000
DTEND;TZID=America/Chicago:20260419T193000
DTSTAMP:20260425T061612
CREATED:20250904T164433Z
LAST-MODIFIED:20260218T163241Z
UID:10009896-1776623400-1776627000@ihcc.org
SUMMARY:Sonshine Kids
DESCRIPTION:Children from 4 years through kindergarten are invited to take part in the Sonshine Kids on Sunday nights. After sitting with their parents in the evening service music from 6:00 pm to 6:30 pm\, they are dismissed to rooms on the second floor for a time of Bible lessons and music until the end of the service at 7:30 pm.
URL:https://ihcc.org/event/sonshine-kids-2-2-2-2/2026-04-19/
LOCATION:Room 2324-25
CATEGORIES:Children's Ministry
END:VEVENT
BEGIN:VEVENT
DTSTART;TZID=America/Chicago:20260422T183000
DTEND;TZID=America/Chicago:20260422T200000
DTSTAMP:20260425T061612
CREATED:20250328T181133Z
LAST-MODIFIED:20250731T153850Z
UID:10007864-1776882600-1776888000@ihcc.org
SUMMARY:Adventure Club
DESCRIPTION:
URL:https://ihcc.org/event/adventure-club-2/2026-04-22/
LOCATION:Family Center\, 1000 S. 84th St.\, Lincoln\, NE\, 68505\, United States
CATEGORIES:Children's Ministry
END:VEVENT
BEGIN:VEVENT
DTSTART;TZID=America/Chicago:20260426T183000
DTEND;TZID=America/Chicago:20260426T193000
DTSTAMP:20260425T061612
CREATED:20250904T164433Z
LAST-MODIFIED:20260218T163241Z
UID:10009897-1777228200-1777231800@ihcc.org
SUMMARY:Sonshine Kids
DESCRIPTION:Children from 4 years through kindergarten are invited to take part in the Sonshine Kids on Sunday nights. After sitting with their parents in the evening service music from 6:00 pm to 6:30 pm\, they are dismissed to rooms on the second floor for a time of Bible lessons and music until the end of the service at 7:30 pm.
URL:https://ihcc.org/event/sonshine-kids-2-2-2-2/2026-04-26/
LOCATION:Room 2324-25
CATEGORIES:Children's Ministry
END:VEVENT
BEGIN:VEVENT
DTSTART;TZID=America/Chicago:20260429T183000
DTEND;TZID=America/Chicago:20260429T200000
DTSTAMP:20260425T061612
CREATED:20250328T181133Z
LAST-MODIFIED:20250731T153850Z
UID:10007865-1777487400-1777492800@ihcc.org
SUMMARY:Adventure Club
DESCRIPTION:
URL:https://ihcc.org/event/adventure-club-2/2026-04-29/
LOCATION:Family Center\, 1000 S. 84th St.\, Lincoln\, NE\, 68505\, United States
CATEGORIES:Children's Ministry
END:VEVENT
BEGIN:VEVENT
DTSTART;TZID=America/Chicago:20260503T183000
DTEND;TZID=America/Chicago:20260503T193000
DTSTAMP:20260425T061612
CREATED:20250904T164433Z
LAST-MODIFIED:20260218T163241Z
UID:10009898-1777833000-1777836600@ihcc.org
SUMMARY:Sonshine Kids
DESCRIPTION:Children from 4 years through kindergarten are invited to take part in the Sonshine Kids on Sunday nights. After sitting with their parents in the evening service music from 6:00 pm to 6:30 pm\, they are dismissed to rooms on the second floor for a time of Bible lessons and music until the end of the service at 7:30 pm.
URL:https://ihcc.org/event/sonshine-kids-2-2-2-2/2026-05-03/
LOCATION:Room 2324-25
CATEGORIES:Children's Ministry
END:VEVENT
BEGIN:VEVENT
DTSTART;TZID=America/Chicago:20260510T183000
DTEND;TZID=America/Chicago:20260510T193000
DTSTAMP:20260425T061612
CREATED:20250904T164433Z
LAST-MODIFIED:20260218T163241Z
UID:10009899-1778437800-1778441400@ihcc.org
SUMMARY:Sonshine Kids
DESCRIPTION:Children from 4 years through kindergarten are invited to take part in the Sonshine Kids on Sunday nights. After sitting with their parents in the evening service music from 6:00 pm to 6:30 pm\, they are dismissed to rooms on the second floor for a time of Bible lessons and music until the end of the service at 7:30 pm.
URL:https://ihcc.org/event/sonshine-kids-2-2-2-2/2026-05-10/
LOCATION:Room 2324-25
CATEGORIES:Children's Ministry
END:VEVENT
BEGIN:VEVENT
DTSTART;TZID=America/Chicago:20260517T180000
DTEND;TZID=America/Chicago:20260517T193000
DTSTAMP:20260425T061612
CREATED:20260415T170612Z
LAST-MODIFIED:20260415T170612Z
UID:10010238-1779040800-1779046200@ihcc.org
SUMMARY:AO-led Children's Ministry
DESCRIPTION:
URL:https://ihcc.org/event/ao-led-childrens-ministry/2026-05-17/
LOCATION:Family Center\, 1000 S. 84th St.\, Lincoln\, NE\, 68505\, United States
CATEGORIES:Children's Ministry
END:VEVENT
BEGIN:VEVENT
DTSTART;TZID=America/Chicago:20260517T183000
DTEND;TZID=America/Chicago:20260517T193000
DTSTAMP:20260425T061612
CREATED:20250904T164433Z
LAST-MODIFIED:20260218T163241Z
UID:10009900-1779042600-1779046200@ihcc.org
SUMMARY:Sonshine Kids
DESCRIPTION:Children from 4 years through kindergarten are invited to take part in the Sonshine Kids on Sunday nights. After sitting with their parents in the evening service music from 6:00 pm to 6:30 pm\, they are dismissed to rooms on the second floor for a time of Bible lessons and music until the end of the service at 7:30 pm.
URL:https://ihcc.org/event/sonshine-kids-2-2-2-2/2026-05-17/
LOCATION:Room 2324-25
CATEGORIES:Children's Ministry
END:VEVENT
BEGIN:VEVENT
DTSTART;TZID=America/Chicago:20260524T180000
DTEND;TZID=America/Chicago:20260524T193000
DTSTAMP:20260425T061612
CREATED:20260415T170612Z
LAST-MODIFIED:20260415T170612Z
UID:10010239-1779645600-1779651000@ihcc.org
SUMMARY:AO-led Children's Ministry
DESCRIPTION:
URL:https://ihcc.org/event/ao-led-childrens-ministry/2026-05-24/
LOCATION:Family Center\, 1000 S. 84th St.\, Lincoln\, NE\, 68505\, United States
CATEGORIES:Children's Ministry
END:VEVENT
BEGIN:VEVENT
DTSTART;TZID=America/Chicago:20260524T183000
DTEND;TZID=America/Chicago:20260524T193000
DTSTAMP:20260425T061612
CREATED:20250904T164433Z
LAST-MODIFIED:20260218T163241Z
UID:10009901-1779647400-1779651000@ihcc.org
SUMMARY:Sonshine Kids
DESCRIPTION:Children from 4 years through kindergarten are invited to take part in the Sonshine Kids on Sunday nights. After sitting with their parents in the evening service music from 6:00 pm to 6:30 pm\, they are dismissed to rooms on the second floor for a time of Bible lessons and music until the end of the service at 7:30 pm.
URL:https://ihcc.org/event/sonshine-kids-2-2-2-2/2026-05-24/
LOCATION:Room 2324-25
CATEGORIES:Children's Ministry
END:VEVENT
BEGIN:VEVENT
DTSTART;TZID=America/Chicago:20260531T180000
DTEND;TZID=America/Chicago:20260531T193000
DTSTAMP:20260425T061612
CREATED:20260415T170612Z
LAST-MODIFIED:20260415T170612Z
UID:10010240-1780250400-1780255800@ihcc.org
SUMMARY:AO-led Children's Ministry
DESCRIPTION:
URL:https://ihcc.org/event/ao-led-childrens-ministry/2026-05-31/
LOCATION:Family Center\, 1000 S. 84th St.\, Lincoln\, NE\, 68505\, United States
CATEGORIES:Children's Ministry
END:VEVENT
BEGIN:VEVENT
DTSTART;TZID=America/Chicago:20260531T183000
DTEND;TZID=America/Chicago:20260531T193000
DTSTAMP:20260425T061612
CREATED:20250904T164433Z
LAST-MODIFIED:20260218T163241Z
UID:10010165-1780252200-1780255800@ihcc.org
SUMMARY:Sonshine Kids
DESCRIPTION:Children from 4 years through kindergarten are invited to take part in the Sonshine Kids on Sunday nights. After sitting with their parents in the evening service music from 6:00 pm to 6:30 pm\, they are dismissed to rooms on the second floor for a time of Bible lessons and music until the end of the service at 7:30 pm.
URL:https://ihcc.org/event/sonshine-kids-2-2-2-2/2026-05-31/
LOCATION:Room 2324-25
CATEGORIES:Children's Ministry
END:VEVENT
BEGIN:VEVENT
DTSTART;TZID=America/Chicago:20260607T180000
DTEND;TZID=America/Chicago:20260607T193000
DTSTAMP:20260425T061612
CREATED:20260415T170612Z
LAST-MODIFIED:20260415T170612Z
UID:10010241-1780855200-1780860600@ihcc.org
SUMMARY:AO-led Children's Ministry
DESCRIPTION:
URL:https://ihcc.org/event/ao-led-childrens-ministry/2026-06-07/
LOCATION:Family Center\, 1000 S. 84th St.\, Lincoln\, NE\, 68505\, United States
CATEGORIES:Children's Ministry
END:VEVENT
BEGIN:VEVENT
DTSTART;TZID=America/Chicago:20260607T183000
DTEND;TZID=America/Chicago:20260607T193000
DTSTAMP:20260425T061612
CREATED:20250904T164433Z
LAST-MODIFIED:20260218T163241Z
UID:10010166-1780857000-1780860600@ihcc.org
SUMMARY:Sonshine Kids
DESCRIPTION:Children from 4 years through kindergarten are invited to take part in the Sonshine Kids on Sunday nights. After sitting with their parents in the evening service music from 6:00 pm to 6:30 pm\, they are dismissed to rooms on the second floor for a time of Bible lessons and music until the end of the service at 7:30 pm.
URL:https://ihcc.org/event/sonshine-kids-2-2-2-2/2026-06-07/
LOCATION:Room 2324-25
CATEGORIES:Children's Ministry
END:VEVENT
BEGIN:VEVENT
DTSTART;TZID=America/Chicago:20260614T180000
DTEND;TZID=America/Chicago:20260614T193000
DTSTAMP:20260425T061612
CREATED:20260415T170612Z
LAST-MODIFIED:20260415T170612Z
UID:10010242-1781460000-1781465400@ihcc.org
SUMMARY:AO-led Children's Ministry
DESCRIPTION:
URL:https://ihcc.org/event/ao-led-childrens-ministry/2026-06-14/
LOCATION:Family Center\, 1000 S. 84th St.\, Lincoln\, NE\, 68505\, United States
CATEGORIES:Children's Ministry
END:VEVENT
BEGIN:VEVENT
DTSTART;TZID=America/Chicago:20260614T183000
DTEND;TZID=America/Chicago:20260614T193000
DTSTAMP:20260425T061612
CREATED:20250904T164433Z
LAST-MODIFIED:20260218T163241Z
UID:10010167-1781461800-1781465400@ihcc.org
SUMMARY:Sonshine Kids
DESCRIPTION:Children from 4 years through kindergarten are invited to take part in the Sonshine Kids on Sunday nights. After sitting with their parents in the evening service music from 6:00 pm to 6:30 pm\, they are dismissed to rooms on the second floor for a time of Bible lessons and music until the end of the service at 7:30 pm.
URL:https://ihcc.org/event/sonshine-kids-2-2-2-2/2026-06-14/
LOCATION:Room 2324-25
CATEGORIES:Children's Ministry
END:VEVENT
BEGIN:VEVENT
DTSTART;TZID=America/Chicago:20260621T180000
DTEND;TZID=America/Chicago:20260621T193000
DTSTAMP:20260425T061612
CREATED:20260415T165937Z
LAST-MODIFIED:20260415T170058Z
UID:10008193-1782064800-1782070200@ihcc.org
SUMMARY:Summer Music Camp
DESCRIPTION:Summer Music Camp is for all incoming 1st – 8th grade children and begins the last week in June through August while Boys of Faith and Girls of Grace are off for the summer months. The 1st – 3rd graders meet in the Family Center. The 4th – 8th graders meet in the choir rooms. All ages will learn more about music in general. Each age will focus on music theory\, notes\, and rhythms. The children also learn about the music side of ministry and receive instruction by our musicians on specific instruments. The curriculum is design so the children build on the skills they’ve already learned. Each week the children received a Bible lesson that related to one our song lyrics. As they grow our hope is that they will use their talents to service the Lord. A musical finale will be presented on the last night in the auditorium. Parents should pick up their children in the Family Center at 7:30pm.
URL:https://ihcc.org/event/summer-music-camp-2-2/2026-06-21/
LOCATION:Family Center\, 1000 S. 84th St.\, Lincoln\, NE\, 68505\, United States
CATEGORIES:Children's Ministry,Music Ministry
ORGANIZER;CN="Andrew Thomas":MAILTO:andrew.thomas@ihcc.org
END:VEVENT
BEGIN:VEVENT
DTSTART;TZID=America/Chicago:20260621T183000
DTEND;TZID=America/Chicago:20260621T193000
DTSTAMP:20260425T061612
CREATED:20250904T164433Z
LAST-MODIFIED:20260218T163241Z
UID:10010168-1782066600-1782070200@ihcc.org
SUMMARY:Sonshine Kids
DESCRIPTION:Children from 4 years through kindergarten are invited to take part in the Sonshine Kids on Sunday nights. After sitting with their parents in the evening service music from 6:00 pm to 6:30 pm\, they are dismissed to rooms on the second floor for a time of Bible lessons and music until the end of the service at 7:30 pm.
URL:https://ihcc.org/event/sonshine-kids-2-2-2-2/2026-06-21/
LOCATION:Room 2324-25
CATEGORIES:Children's Ministry
END:VEVENT
BEGIN:VEVENT
DTSTART;TZID=America/Chicago:20260628T180000
DTEND;TZID=America/Chicago:20260628T193000
DTSTAMP:20260425T061612
CREATED:20260415T165937Z
LAST-MODIFIED:20260415T170058Z
UID:10010227-1782669600-1782675000@ihcc.org
SUMMARY:Summer Music Camp
DESCRIPTION:Summer Music Camp is for all incoming 1st – 8th grade children and begins the last week in June through August while Boys of Faith and Girls of Grace are off for the summer months. The 1st – 3rd graders meet in the Family Center. The 4th – 8th graders meet in the choir rooms. All ages will learn more about music in general. Each age will focus on music theory\, notes\, and rhythms. The children also learn about the music side of ministry and receive instruction by our musicians on specific instruments. The curriculum is design so the children build on the skills they’ve already learned. Each week the children received a Bible lesson that related to one our song lyrics. As they grow our hope is that they will use their talents to service the Lord. A musical finale will be presented on the last night in the auditorium. Parents should pick up their children in the Family Center at 7:30pm.
URL:https://ihcc.org/event/summer-music-camp-2-2/2026-06-28/
LOCATION:Family Center\, 1000 S. 84th St.\, Lincoln\, NE\, 68505\, United States
CATEGORIES:Children's Ministry,Music Ministry
ORGANIZER;CN="Andrew Thomas":MAILTO:andrew.thomas@ihcc.org
END:VEVENT
BEGIN:VEVENT
DTSTART;TZID=America/Chicago:20260628T183000
DTEND;TZID=America/Chicago:20260628T193000
DTSTAMP:20260425T061612
CREATED:20250904T164433Z
LAST-MODIFIED:20260218T163241Z
UID:10010169-1782671400-1782675000@ihcc.org
SUMMARY:Sonshine Kids
DESCRIPTION:Children from 4 years through kindergarten are invited to take part in the Sonshine Kids on Sunday nights. After sitting with their parents in the evening service music from 6:00 pm to 6:30 pm\, they are dismissed to rooms on the second floor for a time of Bible lessons and music until the end of the service at 7:30 pm.
URL:https://ihcc.org/event/sonshine-kids-2-2-2-2/2026-06-28/
LOCATION:Room 2324-25
CATEGORIES:Children's Ministry
END:VEVENT
BEGIN:VEVENT
DTSTART;TZID=America/Chicago:20260705T180000
DTEND;TZID=America/Chicago:20260705T193000
DTSTAMP:20260425T061612
CREATED:20260415T165937Z
LAST-MODIFIED:20260415T170058Z
UID:10010228-1783274400-1783279800@ihcc.org
SUMMARY:Summer Music Camp
DESCRIPTION:Summer Music Camp is for all incoming 1st – 8th grade children and begins the last week in June through August while Boys of Faith and Girls of Grace are off for the summer months. The 1st – 3rd graders meet in the Family Center. The 4th – 8th graders meet in the choir rooms. All ages will learn more about music in general. Each age will focus on music theory\, notes\, and rhythms. The children also learn about the music side of ministry and receive instruction by our musicians on specific instruments. The curriculum is design so the children build on the skills they’ve already learned. Each week the children received a Bible lesson that related to one our song lyrics. As they grow our hope is that they will use their talents to service the Lord. A musical finale will be presented on the last night in the auditorium. Parents should pick up their children in the Family Center at 7:30pm.
URL:https://ihcc.org/event/summer-music-camp-2-2/2026-07-05/
LOCATION:Family Center\, 1000 S. 84th St.\, Lincoln\, NE\, 68505\, United States
CATEGORIES:Children's Ministry,Music Ministry
ORGANIZER;CN="Andrew Thomas":MAILTO:andrew.thomas@ihcc.org
END:VEVENT
BEGIN:VEVENT
DTSTART;TZID=America/Chicago:20260705T183000
DTEND;TZID=America/Chicago:20260705T193000
DTSTAMP:20260425T061612
CREATED:20250904T164433Z
LAST-MODIFIED:20260218T163241Z
UID:10010170-1783276200-1783279800@ihcc.org
SUMMARY:Sonshine Kids
DESCRIPTION:Children from 4 years through kindergarten are invited to take part in the Sonshine Kids on Sunday nights. After sitting with their parents in the evening service music from 6:00 pm to 6:30 pm\, they are dismissed to rooms on the second floor for a time of Bible lessons and music until the end of the service at 7:30 pm.
URL:https://ihcc.org/event/sonshine-kids-2-2-2-2/2026-07-05/
LOCATION:Room 2324-25
CATEGORIES:Children's Ministry
END:VEVENT
BEGIN:VEVENT
DTSTART;TZID=America/Chicago:20260712T180000
DTEND;TZID=America/Chicago:20260712T193000
DTSTAMP:20260425T061612
CREATED:20260415T165937Z
LAST-MODIFIED:20260415T170058Z
UID:10010229-1783879200-1783884600@ihcc.org
SUMMARY:Summer Music Camp
DESCRIPTION:Summer Music Camp is for all incoming 1st – 8th grade children and begins the last week in June through August while Boys of Faith and Girls of Grace are off for the summer months. The 1st – 3rd graders meet in the Family Center. The 4th – 8th graders meet in the choir rooms. All ages will learn more about music in general. Each age will focus on music theory\, notes\, and rhythms. The children also learn about the music side of ministry and receive instruction by our musicians on specific instruments. The curriculum is design so the children build on the skills they’ve already learned. Each week the children received a Bible lesson that related to one our song lyrics. As they grow our hope is that they will use their talents to service the Lord. A musical finale will be presented on the last night in the auditorium. Parents should pick up their children in the Family Center at 7:30pm.
URL:https://ihcc.org/event/summer-music-camp-2-2/2026-07-12/
LOCATION:Family Center\, 1000 S. 84th St.\, Lincoln\, NE\, 68505\, United States
CATEGORIES:Children's Ministry,Music Ministry
ORGANIZER;CN="Andrew Thomas":MAILTO:andrew.thomas@ihcc.org
END:VEVENT
BEGIN:VEVENT
DTSTART;TZID=America/Chicago:20260712T183000
DTEND;TZID=America/Chicago:20260712T193000
DTSTAMP:20260425T061612
CREATED:20250904T164433Z
LAST-MODIFIED:20260218T163241Z
UID:10010171-1783881000-1783884600@ihcc.org
SUMMARY:Sonshine Kids
DESCRIPTION:Children from 4 years through kindergarten are invited to take part in the Sonshine Kids on Sunday nights. After sitting with their parents in the evening service music from 6:00 pm to 6:30 pm\, they are dismissed to rooms on the second floor for a time of Bible lessons and music until the end of the service at 7:30 pm.
URL:https://ihcc.org/event/sonshine-kids-2-2-2-2/2026-07-12/
LOCATION:Room 2324-25
CATEGORIES:Children's Ministry
END:VEVENT
BEGIN:VEVENT
DTSTART;TZID=America/Chicago:20260719T180000
DTEND;TZID=America/Chicago:20260719T193000
DTSTAMP:20260425T061612
CREATED:20260415T165937Z
LAST-MODIFIED:20260415T170058Z
UID:10010230-1784484000-1784489400@ihcc.org
SUMMARY:Summer Music Camp
DESCRIPTION:Summer Music Camp is for all incoming 1st – 8th grade children and begins the last week in June through August while Boys of Faith and Girls of Grace are off for the summer months. The 1st – 3rd graders meet in the Family Center. The 4th – 8th graders meet in the choir rooms. All ages will learn more about music in general. Each age will focus on music theory\, notes\, and rhythms. The children also learn about the music side of ministry and receive instruction by our musicians on specific instruments. The curriculum is design so the children build on the skills they’ve already learned. Each week the children received a Bible lesson that related to one our song lyrics. As they grow our hope is that they will use their talents to service the Lord. A musical finale will be presented on the last night in the auditorium. Parents should pick up their children in the Family Center at 7:30pm.
URL:https://ihcc.org/event/summer-music-camp-2-2/2026-07-19/
LOCATION:Family Center\, 1000 S. 84th St.\, Lincoln\, NE\, 68505\, United States
CATEGORIES:Children's Ministry,Music Ministry
ORGANIZER;CN="Andrew Thomas":MAILTO:andrew.thomas@ihcc.org
END:VEVENT
BEGIN:VEVENT
DTSTART;TZID=America/Chicago:20260719T183000
DTEND;TZID=America/Chicago:20260719T193000
DTSTAMP:20260425T061612
CREATED:20250904T164433Z
LAST-MODIFIED:20260218T163241Z
UID:10010172-1784485800-1784489400@ihcc.org
SUMMARY:Sonshine Kids
DESCRIPTION:Children from 4 years through kindergarten are invited to take part in the Sonshine Kids on Sunday nights. After sitting with their parents in the evening service music from 6:00 pm to 6:30 pm\, they are dismissed to rooms on the second floor for a time of Bible lessons and music until the end of the service at 7:30 pm.
URL:https://ihcc.org/event/sonshine-kids-2-2-2-2/2026-07-19/
LOCATION:Room 2324-25
CATEGORIES:Children's Ministry
END:VEVENT
BEGIN:VEVENT
DTSTART;TZID=America/Chicago:20260726T180000
DTEND;TZID=America/Chicago:20260726T193000
DTSTAMP:20260425T061612
CREATED:20260415T165937Z
LAST-MODIFIED:20260415T170058Z
UID:10010231-1785088800-1785094200@ihcc.org
SUMMARY:Summer Music Camp
DESCRIPTION:Summer Music Camp is for all incoming 1st – 8th grade children and begins the last week in June through August while Boys of Faith and Girls of Grace are off for the summer months. The 1st – 3rd graders meet in the Family Center. The 4th – 8th graders meet in the choir rooms. All ages will learn more about music in general. Each age will focus on music theory\, notes\, and rhythms. The children also learn about the music side of ministry and receive instruction by our musicians on specific instruments. The curriculum is design so the children build on the skills they’ve already learned. Each week the children received a Bible lesson that related to one our song lyrics. As they grow our hope is that they will use their talents to service the Lord. A musical finale will be presented on the last night in the auditorium. Parents should pick up their children in the Family Center at 7:30pm.
URL:https://ihcc.org/event/summer-music-camp-2-2/2026-07-26/
LOCATION:Family Center\, 1000 S. 84th St.\, Lincoln\, NE\, 68505\, United States
CATEGORIES:Children's Ministry,Music Ministry
ORGANIZER;CN="Andrew Thomas":MAILTO:andrew.thomas@ihcc.org
END:VEVENT
BEGIN:VEVENT
DTSTART;TZID=America/Chicago:20260726T183000
DTEND;TZID=America/Chicago:20260726T193000
DTSTAMP:20260425T061612
CREATED:20250904T164433Z
LAST-MODIFIED:20260218T163241Z
UID:10010173-1785090600-1785094200@ihcc.org
SUMMARY:Sonshine Kids
DESCRIPTION:Children from 4 years through kindergarten are invited to take part in the Sonshine Kids on Sunday nights. After sitting with their parents in the evening service music from 6:00 pm to 6:30 pm\, they are dismissed to rooms on the second floor for a time of Bible lessons and music until the end of the service at 7:30 pm.
URL:https://ihcc.org/event/sonshine-kids-2-2-2-2/2026-07-26/
LOCATION:Room 2324-25
CATEGORIES:Children's Ministry
END:VEVENT
END:VCALENDAR