BEGIN:VCALENDAR
VERSION:2.0
PRODID:-//Indian Hills Community Church - ECPv6.15.20//NONSGML v1.0//EN
CALSCALE:GREGORIAN
METHOD:PUBLISH
X-ORIGINAL-URL:https://ihcc.org
X-WR-CALDESC:Events for Indian Hills Community Church
REFRESH-INTERVAL;VALUE=DURATION:PT1H
X-Robots-Tag:noindex
X-PUBLISHED-TTL:PT1H
BEGIN:VTIMEZONE
TZID:America/Chicago
BEGIN:DAYLIGHT
TZOFFSETFROM:-0600
TZOFFSETTO:-0500
TZNAME:CDT
DTSTART:20250309T080000
END:DAYLIGHT
BEGIN:STANDARD
TZOFFSETFROM:-0500
TZOFFSETTO:-0600
TZNAME:CST
DTSTART:20251102T070000
END:STANDARD
BEGIN:DAYLIGHT
TZOFFSETFROM:-0600
TZOFFSETTO:-0500
TZNAME:CDT
DTSTART:20260308T080000
END:DAYLIGHT
BEGIN:STANDARD
TZOFFSETFROM:-0500
TZOFFSETTO:-0600
TZNAME:CST
DTSTART:20261101T070000
END:STANDARD
BEGIN:DAYLIGHT
TZOFFSETFROM:-0600
TZOFFSETTO:-0500
TZNAME:CDT
DTSTART:20270314T080000
END:DAYLIGHT
BEGIN:STANDARD
TZOFFSETFROM:-0500
TZOFFSETTO:-0600
TZNAME:CST
DTSTART:20271107T070000
END:STANDARD
END:VTIMEZONE
BEGIN:VEVENT
DTSTART;TZID=America/Chicago:20260304T164500
DTEND;TZID=America/Chicago:20260304T174500
DTSTAMP:20260424T152703
CREATED:20251231T190301Z
LAST-MODIFIED:20260115T211403Z
UID:10009985-1772642700-1772646300@ihcc.org
SUMMARY:Boys' Choir
DESCRIPTION:All boys in 4th-12th grade boys that would like to sing are invited to join us.\nWe will rehearse from 4:45-5:45 p.m. on Wednesdays in the High School room.
URL:https://ihcc.org/event/boys-choir/2026-03-04/
LOCATION:Ignite Classroom – Room 2430
CATEGORIES:Children's Ministry,High School Ministry,Jr. High Ministry,Music Ministry
ORGANIZER;CN="Andrew Thomas":MAILTO:andrew.thomas@ihcc.org
END:VEVENT
BEGIN:VEVENT
DTSTART;TZID=America/Chicago:20260304T183000
DTEND;TZID=America/Chicago:20260304T200000
DTSTAMP:20260424T152703
CREATED:20260115T211137Z
LAST-MODIFIED:20260115T211138Z
UID:10008423-1772649000-1772654400@ihcc.org
SUMMARY:Jham Jr High Bible Study
DESCRIPTION:If you’re Jr High age join us on Wednesday evenings at 6:30 pm for time of Bible study\, singing\, small groups\, and fellowship. A committed group of adult sponsors pour their lives into the students at these and other events (including summer camp\, ski trip\, Worlds of Fun trip\, game nights\, lip-synch contest\, and many others) with the goal that the students would come to know and follow Jesus Christ.
URL:https://ihcc.org/event/jham-jr-high-wednesday-night-bible-study-3-2-2-2-2-2/2026-03-04/
LOCATION:JHAM – Room 1430
CATEGORIES:Jr. High Ministry
END:VEVENT
BEGIN:VEVENT
DTSTART;TZID=America/Chicago:20260311T164500
DTEND;TZID=America/Chicago:20260311T174500
DTSTAMP:20260424T152703
CREATED:20251231T190301Z
LAST-MODIFIED:20260115T211403Z
UID:10009986-1773247500-1773251100@ihcc.org
SUMMARY:Boys' Choir
DESCRIPTION:All boys in 4th-12th grade boys that would like to sing are invited to join us.\nWe will rehearse from 4:45-5:45 p.m. on Wednesdays in the High School room.
URL:https://ihcc.org/event/boys-choir/2026-03-11/
LOCATION:Ignite Classroom – Room 2430
CATEGORIES:Children's Ministry,High School Ministry,Jr. High Ministry,Music Ministry
ORGANIZER;CN="Andrew Thomas":MAILTO:andrew.thomas@ihcc.org
END:VEVENT
BEGIN:VEVENT
DTSTART;TZID=America/Chicago:20260311T183000
DTEND;TZID=America/Chicago:20260311T200000
DTSTAMP:20260424T152703
CREATED:20260115T211137Z
LAST-MODIFIED:20260115T211138Z
UID:10008424-1773253800-1773259200@ihcc.org
SUMMARY:Jham Jr High Bible Study
DESCRIPTION:If you’re Jr High age join us on Wednesday evenings at 6:30 pm for time of Bible study\, singing\, small groups\, and fellowship. A committed group of adult sponsors pour their lives into the students at these and other events (including summer camp\, ski trip\, Worlds of Fun trip\, game nights\, lip-synch contest\, and many others) with the goal that the students would come to know and follow Jesus Christ.
URL:https://ihcc.org/event/jham-jr-high-wednesday-night-bible-study-3-2-2-2-2-2/2026-03-11/
LOCATION:JHAM – Room 1430
CATEGORIES:Jr. High Ministry
END:VEVENT
BEGIN:VEVENT
DTSTART;TZID=America/Chicago:20260318T164500
DTEND;TZID=America/Chicago:20260318T174500
DTSTAMP:20260424T152703
CREATED:20251231T190301Z
LAST-MODIFIED:20260115T211403Z
UID:10009987-1773852300-1773855900@ihcc.org
SUMMARY:Boys' Choir
DESCRIPTION:All boys in 4th-12th grade boys that would like to sing are invited to join us.\nWe will rehearse from 4:45-5:45 p.m. on Wednesdays in the High School room.
URL:https://ihcc.org/event/boys-choir/2026-03-18/
LOCATION:Ignite Classroom – Room 2430
CATEGORIES:Children's Ministry,High School Ministry,Jr. High Ministry,Music Ministry
ORGANIZER;CN="Andrew Thomas":MAILTO:andrew.thomas@ihcc.org
END:VEVENT
BEGIN:VEVENT
DTSTART;TZID=America/Chicago:20260318T183000
DTEND;TZID=America/Chicago:20260318T200000
DTSTAMP:20260424T152703
CREATED:20260115T211137Z
LAST-MODIFIED:20260115T211138Z
UID:10008425-1773858600-1773864000@ihcc.org
SUMMARY:Jham Jr High Bible Study
DESCRIPTION:If you’re Jr High age join us on Wednesday evenings at 6:30 pm for time of Bible study\, singing\, small groups\, and fellowship. A committed group of adult sponsors pour their lives into the students at these and other events (including summer camp\, ski trip\, Worlds of Fun trip\, game nights\, lip-synch contest\, and many others) with the goal that the students would come to know and follow Jesus Christ.
URL:https://ihcc.org/event/jham-jr-high-wednesday-night-bible-study-3-2-2-2-2-2/2026-03-18/
LOCATION:JHAM – Room 1430
CATEGORIES:Jr. High Ministry
END:VEVENT
BEGIN:VEVENT
DTSTART;TZID=America/Chicago:20260320T183000
DTEND;TZID=America/Chicago:20260320T210000
DTSTAMP:20260424T152703
CREATED:20250313T142358Z
LAST-MODIFIED:20260403T143410Z
UID:10010128-1774031400-1774040400@ihcc.org
SUMMARY:Jham Friday Night Live
DESCRIPTION:6:30-9:00 p.m. @ the Jham SS Classroom\nCome hang out and play games and eat snacks and pizza on a Friday night! \n\nPizza is $1/slice \nWinter 2026 FNL Dates:\nJanuary 16\nMarch 20
URL:https://ihcc.org/event/jham-friday-night-live/2026-03-20/
LOCATION:JHAM – Room 1430
CATEGORIES:Jr. High Ministry
END:VEVENT
BEGIN:VEVENT
DTSTART;TZID=America/Chicago:20260325T164500
DTEND;TZID=America/Chicago:20260325T174500
DTSTAMP:20260424T152703
CREATED:20251231T190301Z
LAST-MODIFIED:20260115T211403Z
UID:10009988-1774457100-1774460700@ihcc.org
SUMMARY:Boys' Choir
DESCRIPTION:All boys in 4th-12th grade boys that would like to sing are invited to join us.\nWe will rehearse from 4:45-5:45 p.m. on Wednesdays in the High School room.
URL:https://ihcc.org/event/boys-choir/2026-03-25/
LOCATION:Ignite Classroom – Room 2430
CATEGORIES:Children's Ministry,High School Ministry,Jr. High Ministry,Music Ministry
ORGANIZER;CN="Andrew Thomas":MAILTO:andrew.thomas@ihcc.org
END:VEVENT
BEGIN:VEVENT
DTSTART;TZID=America/Chicago:20260325T183000
DTEND;TZID=America/Chicago:20260325T200000
DTSTAMP:20260424T152703
CREATED:20260115T211137Z
LAST-MODIFIED:20260115T211138Z
UID:10008426-1774463400-1774468800@ihcc.org
SUMMARY:Jham Jr High Bible Study
DESCRIPTION:If you’re Jr High age join us on Wednesday evenings at 6:30 pm for time of Bible study\, singing\, small groups\, and fellowship. A committed group of adult sponsors pour their lives into the students at these and other events (including summer camp\, ski trip\, Worlds of Fun trip\, game nights\, lip-synch contest\, and many others) with the goal that the students would come to know and follow Jesus Christ.
URL:https://ihcc.org/event/jham-jr-high-wednesday-night-bible-study-3-2-2-2-2-2/2026-03-25/
LOCATION:JHAM – Room 1430
CATEGORIES:Jr. High Ministry
END:VEVENT
END:VCALENDAR