BEGIN:VCALENDAR
VERSION:2.0
PRODID:-//Indian Hills Community Church - ECPv6.15.20//NONSGML v1.0//EN
CALSCALE:GREGORIAN
METHOD:PUBLISH
X-ORIGINAL-URL:https://ihcc.org
X-WR-CALDESC:Events for Indian Hills Community Church
REFRESH-INTERVAL;VALUE=DURATION:PT1H
X-Robots-Tag:noindex
X-PUBLISHED-TTL:PT1H
BEGIN:VTIMEZONE
TZID:America/Chicago
BEGIN:DAYLIGHT
TZOFFSETFROM:-0600
TZOFFSETTO:-0500
TZNAME:CDT
DTSTART:20250309T080000
END:DAYLIGHT
BEGIN:STANDARD
TZOFFSETFROM:-0500
TZOFFSETTO:-0600
TZNAME:CST
DTSTART:20251102T070000
END:STANDARD
BEGIN:DAYLIGHT
TZOFFSETFROM:-0600
TZOFFSETTO:-0500
TZNAME:CDT
DTSTART:20260308T080000
END:DAYLIGHT
BEGIN:STANDARD
TZOFFSETFROM:-0500
TZOFFSETTO:-0600
TZNAME:CST
DTSTART:20261101T070000
END:STANDARD
BEGIN:DAYLIGHT
TZOFFSETFROM:-0600
TZOFFSETTO:-0500
TZNAME:CDT
DTSTART:20270314T080000
END:DAYLIGHT
BEGIN:STANDARD
TZOFFSETFROM:-0500
TZOFFSETTO:-0600
TZNAME:CST
DTSTART:20271107T070000
END:STANDARD
END:VTIMEZONE
BEGIN:VEVENT
DTSTART;TZID=America/Chicago:20260602T113000
DTEND;TZID=America/Chicago:20260602T140000
DTSTAMP:20260424T152647
CREATED:20260115T180415Z
LAST-MODIFIED:20260115T180416Z
UID:10010094-1780399800-1780408800@ihcc.org
SUMMARY:SOWERS
DESCRIPTION:Come help sew lap robes for retirement communities and enjoy fellowship! For further information contact Sherri Machacek or
URL:https://ihcc.org/event/sowers-2/2026-06-02/
CATEGORIES:Women's Ministry
END:VEVENT
BEGIN:VEVENT
DTSTART;TZID=America/Chicago:20260609T120000
DTEND;TZID=America/Chicago:20260609T180000
DTSTAMP:20260424T152647
CREATED:20260106T220539Z
LAST-MODIFIED:20260112T205446Z
UID:10009968-1781006400-1781028000@ihcc.org
SUMMARY:Clothing Outlet
DESCRIPTION:Clothing Outlet is the second Tuesday of each month and is open 12pm to 6 pm in Room 1101-1102 across from the chapel.
URL:https://ihcc.org/event/clothing-outlet-2-2/2026-06-09/
LOCATION:Room 1101-1102
CATEGORIES:Women's Ministry
END:VEVENT
BEGIN:VEVENT
DTSTART;TZID=America/Chicago:20260616T113000
DTEND;TZID=America/Chicago:20260616T140000
DTSTAMP:20260424T152647
CREATED:20260115T174112Z
LAST-MODIFIED:20260115T180735Z
UID:10010106-1781609400-1781618400@ihcc.org
SUMMARY:SOWERS
DESCRIPTION:Come help sew lap robes for retirement communities and enjoy fellowship! For further information contact Sherri Machacek or Judy Zabel.
URL:https://ihcc.org/event/sowers/2026-06-16/
CATEGORIES:Women's Ministry
END:VEVENT
END:VCALENDAR