BEGIN:VCALENDAR
VERSION:2.0
PRODID:-//Indian Hills Community Church - ECPv6.15.20//NONSGML v1.0//EN
CALSCALE:GREGORIAN
METHOD:PUBLISH
X-WR-CALNAME:Indian Hills Community Church
X-ORIGINAL-URL:https://ihcc.org
X-WR-CALDESC:Events for Indian Hills Community Church
REFRESH-INTERVAL;VALUE=DURATION:PT1H
X-Robots-Tag:noindex
X-PUBLISHED-TTL:PT1H
BEGIN:VTIMEZONE
TZID:America/Chicago
BEGIN:DAYLIGHT
TZOFFSETFROM:-0600
TZOFFSETTO:-0500
TZNAME:CDT
DTSTART:20250309T080000
END:DAYLIGHT
BEGIN:STANDARD
TZOFFSETFROM:-0500
TZOFFSETTO:-0600
TZNAME:CST
DTSTART:20251102T070000
END:STANDARD
BEGIN:DAYLIGHT
TZOFFSETFROM:-0600
TZOFFSETTO:-0500
TZNAME:CDT
DTSTART:20260308T080000
END:DAYLIGHT
BEGIN:STANDARD
TZOFFSETFROM:-0500
TZOFFSETTO:-0600
TZNAME:CST
DTSTART:20261101T070000
END:STANDARD
BEGIN:DAYLIGHT
TZOFFSETFROM:-0600
TZOFFSETTO:-0500
TZNAME:CDT
DTSTART:20270314T080000
END:DAYLIGHT
BEGIN:STANDARD
TZOFFSETFROM:-0500
TZOFFSETTO:-0600
TZNAME:CST
DTSTART:20271107T070000
END:STANDARD
END:VTIMEZONE
BEGIN:VEVENT
DTSTART;TZID=America/Chicago:20260608T090000
DTEND;TZID=America/Chicago:20260612T113000
DTSTAMP:20260424T150843
CREATED:20250404T183201Z
LAST-MODIFIED:20250919T152706Z
UID:10008020-1780909200-1781263800@ihcc.org
SUMMARY:Vacation Bible School
DESCRIPTION:
URL:https://ihcc.org/event/vacation-bible-school-program/
LOCATION:Auditorium\, 1000 S. 84th St.\, Lincoln\, 68505\, United States
END:VEVENT
BEGIN:VEVENT
DTSTART;TZID=America/Chicago:20260614T180000
DTEND;TZID=America/Chicago:20260614T193000
DTSTAMP:20260424T150843
CREATED:20260415T170612Z
LAST-MODIFIED:20260415T170612Z
UID:10010242-1781460000-1781465400@ihcc.org
SUMMARY:AO-led Children's Ministry
DESCRIPTION:
URL:https://ihcc.org/event/ao-led-childrens-ministry/2026-06-14/
LOCATION:Family Center\, 1000 S. 84th St.\, Lincoln\, NE\, 68505\, United States
CATEGORIES:Children's Ministry
END:VEVENT
BEGIN:VEVENT
DTSTART;VALUE=DATE:20260620
DTEND;VALUE=DATE:20260625
DTSTAMP:20260424T150843
CREATED:20250422T201109Z
LAST-MODIFIED:20250919T153014Z
UID:10008181-1781913600-1782345599@ihcc.org
SUMMARY:Ignite High School Camp - Ascend Camp
DESCRIPTION:Ascend Camp is a ministry of Mission Road Bible Church in Kansas City. A 5-day quality summer camp experience at Lake Williamson Christian Conference Center in Carlinville\, Illinois. Pastors and ministry leaders provide expositional preaching\, Christ-exalting music\, and exciting games.
URL:https://ihcc.org/event/ignite-high-school-camp/
CATEGORIES:High School Ministry
END:VEVENT
END:VCALENDAR