BEGIN:VCALENDAR
VERSION:2.0
PRODID:-//Indian Hills Community Church - ECPv6.15.20//NONSGML v1.0//EN
CALSCALE:GREGORIAN
METHOD:PUBLISH
X-ORIGINAL-URL:https://ihcc.org
X-WR-CALDESC:Events for Indian Hills Community Church
REFRESH-INTERVAL;VALUE=DURATION:PT1H
X-Robots-Tag:noindex
X-PUBLISHED-TTL:PT1H
BEGIN:VTIMEZONE
TZID:America/Chicago
BEGIN:DAYLIGHT
TZOFFSETFROM:-0600
TZOFFSETTO:-0500
TZNAME:CDT
DTSTART:20260308T080000
END:DAYLIGHT
BEGIN:STANDARD
TZOFFSETFROM:-0500
TZOFFSETTO:-0600
TZNAME:CST
DTSTART:20261101T070000
END:STANDARD
BEGIN:DAYLIGHT
TZOFFSETFROM:-0600
TZOFFSETTO:-0500
TZNAME:CDT
DTSTART:20270314T080000
END:DAYLIGHT
BEGIN:STANDARD
TZOFFSETFROM:-0500
TZOFFSETTO:-0600
TZNAME:CST
DTSTART:20271107T070000
END:STANDARD
BEGIN:DAYLIGHT
TZOFFSETFROM:-0600
TZOFFSETTO:-0500
TZNAME:CDT
DTSTART:20280312T080000
END:DAYLIGHT
BEGIN:STANDARD
TZOFFSETFROM:-0500
TZOFFSETTO:-0600
TZNAME:CST
DTSTART:20281105T070000
END:STANDARD
END:VTIMEZONE
BEGIN:VEVENT
DTSTART;TZID=America/Chicago:20270621T180000
DTEND;TZID=America/Chicago:20270621T193000
DTSTAMP:20260419T203017
CREATED:20260416T205142Z
LAST-MODIFIED:20260416T210737Z
UID:10010303-1813600800-1813606200@ihcc.org
SUMMARY:Door-to-Door Evangelism
DESCRIPTION:Join us as we go door-to-door in various Lincoln neighborhoods bringing the Good News of the Gospel ! \nYou will get paired up with a seasoned evangelist if you’re new to this. We meet in the South Lobby at 6:00 pm \nWe go out each Monday night through the Summer and early Fall until daylight and weather determines otherwise.
URL:https://ihcc.org/event/door-to-door-evangelism/2027-06-21/
CATEGORIES:Adult Ministries,Evangelism Ministry
END:VEVENT
BEGIN:VEVENT
DTSTART;TZID=America/Chicago:20270628T180000
DTEND;TZID=America/Chicago:20270628T193000
DTSTAMP:20260419T203017
CREATED:20260416T205142Z
LAST-MODIFIED:20260416T210737Z
UID:10010304-1814205600-1814211000@ihcc.org
SUMMARY:Door-to-Door Evangelism
DESCRIPTION:Join us as we go door-to-door in various Lincoln neighborhoods bringing the Good News of the Gospel ! \nYou will get paired up with a seasoned evangelist if you’re new to this. We meet in the South Lobby at 6:00 pm \nWe go out each Monday night through the Summer and early Fall until daylight and weather determines otherwise.
URL:https://ihcc.org/event/door-to-door-evangelism/2027-06-28/
CATEGORIES:Adult Ministries,Evangelism Ministry
END:VEVENT
BEGIN:VEVENT
DTSTART;TZID=America/Chicago:20270705T180000
DTEND;TZID=America/Chicago:20270705T193000
DTSTAMP:20260419T203017
CREATED:20260416T205142Z
LAST-MODIFIED:20260416T210737Z
UID:10010305-1814810400-1814815800@ihcc.org
SUMMARY:Door-to-Door Evangelism
DESCRIPTION:Join us as we go door-to-door in various Lincoln neighborhoods bringing the Good News of the Gospel ! \nYou will get paired up with a seasoned evangelist if you’re new to this. We meet in the South Lobby at 6:00 pm \nWe go out each Monday night through the Summer and early Fall until daylight and weather determines otherwise.
URL:https://ihcc.org/event/door-to-door-evangelism/2027-07-05/
CATEGORIES:Adult Ministries,Evangelism Ministry
END:VEVENT
BEGIN:VEVENT
DTSTART;TZID=America/Chicago:20270712T180000
DTEND;TZID=America/Chicago:20270712T193000
DTSTAMP:20260419T203017
CREATED:20260416T205142Z
LAST-MODIFIED:20260416T210737Z
UID:10010306-1815415200-1815420600@ihcc.org
SUMMARY:Door-to-Door Evangelism
DESCRIPTION:Join us as we go door-to-door in various Lincoln neighborhoods bringing the Good News of the Gospel ! \nYou will get paired up with a seasoned evangelist if you’re new to this. We meet in the South Lobby at 6:00 pm \nWe go out each Monday night through the Summer and early Fall until daylight and weather determines otherwise.
URL:https://ihcc.org/event/door-to-door-evangelism/2027-07-12/
CATEGORIES:Adult Ministries,Evangelism Ministry
END:VEVENT
BEGIN:VEVENT
DTSTART;TZID=America/Chicago:20270719T180000
DTEND;TZID=America/Chicago:20270719T193000
DTSTAMP:20260419T203017
CREATED:20260416T205142Z
LAST-MODIFIED:20260416T210737Z
UID:10010307-1816020000-1816025400@ihcc.org
SUMMARY:Door-to-Door Evangelism
DESCRIPTION:Join us as we go door-to-door in various Lincoln neighborhoods bringing the Good News of the Gospel ! \nYou will get paired up with a seasoned evangelist if you’re new to this. We meet in the South Lobby at 6:00 pm \nWe go out each Monday night through the Summer and early Fall until daylight and weather determines otherwise.
URL:https://ihcc.org/event/door-to-door-evangelism/2027-07-19/
CATEGORIES:Adult Ministries,Evangelism Ministry
END:VEVENT
BEGIN:VEVENT
DTSTART;TZID=America/Chicago:20270726T180000
DTEND;TZID=America/Chicago:20270726T193000
DTSTAMP:20260419T203017
CREATED:20260416T205142Z
LAST-MODIFIED:20260416T210737Z
UID:10010308-1816624800-1816630200@ihcc.org
SUMMARY:Door-to-Door Evangelism
DESCRIPTION:Join us as we go door-to-door in various Lincoln neighborhoods bringing the Good News of the Gospel ! \nYou will get paired up with a seasoned evangelist if you’re new to this. We meet in the South Lobby at 6:00 pm \nWe go out each Monday night through the Summer and early Fall until daylight and weather determines otherwise.
URL:https://ihcc.org/event/door-to-door-evangelism/2027-07-26/
CATEGORIES:Adult Ministries,Evangelism Ministry
END:VEVENT
BEGIN:VEVENT
DTSTART;TZID=America/Chicago:20270802T180000
DTEND;TZID=America/Chicago:20270802T193000
DTSTAMP:20260419T203017
CREATED:20260416T205142Z
LAST-MODIFIED:20260416T210737Z
UID:10010309-1817229600-1817235000@ihcc.org
SUMMARY:Door-to-Door Evangelism
DESCRIPTION:Join us as we go door-to-door in various Lincoln neighborhoods bringing the Good News of the Gospel ! \nYou will get paired up with a seasoned evangelist if you’re new to this. We meet in the South Lobby at 6:00 pm \nWe go out each Monday night through the Summer and early Fall until daylight and weather determines otherwise.
URL:https://ihcc.org/event/door-to-door-evangelism/2027-08-02/
CATEGORIES:Adult Ministries,Evangelism Ministry
END:VEVENT
BEGIN:VEVENT
DTSTART;TZID=America/Chicago:20270809T180000
DTEND;TZID=America/Chicago:20270809T193000
DTSTAMP:20260419T203017
CREATED:20260416T205142Z
LAST-MODIFIED:20260416T210737Z
UID:10010310-1817834400-1817839800@ihcc.org
SUMMARY:Door-to-Door Evangelism
DESCRIPTION:Join us as we go door-to-door in various Lincoln neighborhoods bringing the Good News of the Gospel ! \nYou will get paired up with a seasoned evangelist if you’re new to this. We meet in the South Lobby at 6:00 pm \nWe go out each Monday night through the Summer and early Fall until daylight and weather determines otherwise.
URL:https://ihcc.org/event/door-to-door-evangelism/2027-08-09/
CATEGORIES:Adult Ministries,Evangelism Ministry
END:VEVENT
BEGIN:VEVENT
DTSTART;TZID=America/Chicago:20270816T180000
DTEND;TZID=America/Chicago:20270816T193000
DTSTAMP:20260419T203017
CREATED:20260416T205142Z
LAST-MODIFIED:20260416T210737Z
UID:10010311-1818439200-1818444600@ihcc.org
SUMMARY:Door-to-Door Evangelism
DESCRIPTION:Join us as we go door-to-door in various Lincoln neighborhoods bringing the Good News of the Gospel ! \nYou will get paired up with a seasoned evangelist if you’re new to this. We meet in the South Lobby at 6:00 pm \nWe go out each Monday night through the Summer and early Fall until daylight and weather determines otherwise.
URL:https://ihcc.org/event/door-to-door-evangelism/2027-08-16/
CATEGORIES:Adult Ministries,Evangelism Ministry
END:VEVENT
BEGIN:VEVENT
DTSTART;TZID=America/Chicago:20270823T180000
DTEND;TZID=America/Chicago:20270823T193000
DTSTAMP:20260419T203017
CREATED:20260416T205142Z
LAST-MODIFIED:20260416T210737Z
UID:10010312-1819044000-1819049400@ihcc.org
SUMMARY:Door-to-Door Evangelism
DESCRIPTION:Join us as we go door-to-door in various Lincoln neighborhoods bringing the Good News of the Gospel ! \nYou will get paired up with a seasoned evangelist if you’re new to this. We meet in the South Lobby at 6:00 pm \nWe go out each Monday night through the Summer and early Fall until daylight and weather determines otherwise.
URL:https://ihcc.org/event/door-to-door-evangelism/2027-08-23/
CATEGORIES:Adult Ministries,Evangelism Ministry
END:VEVENT
BEGIN:VEVENT
DTSTART;TZID=America/Chicago:20270830T180000
DTEND;TZID=America/Chicago:20270830T193000
DTSTAMP:20260419T203017
CREATED:20260416T205142Z
LAST-MODIFIED:20260416T210737Z
UID:10010313-1819648800-1819654200@ihcc.org
SUMMARY:Door-to-Door Evangelism
DESCRIPTION:Join us as we go door-to-door in various Lincoln neighborhoods bringing the Good News of the Gospel ! \nYou will get paired up with a seasoned evangelist if you’re new to this. We meet in the South Lobby at 6:00 pm \nWe go out each Monday night through the Summer and early Fall until daylight and weather determines otherwise.
URL:https://ihcc.org/event/door-to-door-evangelism/2027-08-30/
CATEGORIES:Adult Ministries,Evangelism Ministry
END:VEVENT
BEGIN:VEVENT
DTSTART;TZID=America/Chicago:20270906T180000
DTEND;TZID=America/Chicago:20270906T193000
DTSTAMP:20260419T203017
CREATED:20260416T205142Z
LAST-MODIFIED:20260416T210737Z
UID:10010314-1820253600-1820259000@ihcc.org
SUMMARY:Door-to-Door Evangelism
DESCRIPTION:Join us as we go door-to-door in various Lincoln neighborhoods bringing the Good News of the Gospel ! \nYou will get paired up with a seasoned evangelist if you’re new to this. We meet in the South Lobby at 6:00 pm \nWe go out each Monday night through the Summer and early Fall until daylight and weather determines otherwise.
URL:https://ihcc.org/event/door-to-door-evangelism/2027-09-06/
CATEGORIES:Adult Ministries,Evangelism Ministry
END:VEVENT
BEGIN:VEVENT
DTSTART;TZID=America/Chicago:20270913T180000
DTEND;TZID=America/Chicago:20270913T193000
DTSTAMP:20260419T203017
CREATED:20260416T205142Z
LAST-MODIFIED:20260416T210737Z
UID:10010315-1820858400-1820863800@ihcc.org
SUMMARY:Door-to-Door Evangelism
DESCRIPTION:Join us as we go door-to-door in various Lincoln neighborhoods bringing the Good News of the Gospel ! \nYou will get paired up with a seasoned evangelist if you’re new to this. We meet in the South Lobby at 6:00 pm \nWe go out each Monday night through the Summer and early Fall until daylight and weather determines otherwise.
URL:https://ihcc.org/event/door-to-door-evangelism/2027-09-13/
CATEGORIES:Adult Ministries,Evangelism Ministry
END:VEVENT
BEGIN:VEVENT
DTSTART;TZID=America/Chicago:20270920T180000
DTEND;TZID=America/Chicago:20270920T193000
DTSTAMP:20260419T203017
CREATED:20260416T205142Z
LAST-MODIFIED:20260416T210737Z
UID:10010316-1821463200-1821468600@ihcc.org
SUMMARY:Door-to-Door Evangelism
DESCRIPTION:Join us as we go door-to-door in various Lincoln neighborhoods bringing the Good News of the Gospel ! \nYou will get paired up with a seasoned evangelist if you’re new to this. We meet in the South Lobby at 6:00 pm \nWe go out each Monday night through the Summer and early Fall until daylight and weather determines otherwise.
URL:https://ihcc.org/event/door-to-door-evangelism/2027-09-20/
CATEGORIES:Adult Ministries,Evangelism Ministry
END:VEVENT
BEGIN:VEVENT
DTSTART;TZID=America/Chicago:20270927T180000
DTEND;TZID=America/Chicago:20270927T193000
DTSTAMP:20260419T203017
CREATED:20260416T205142Z
LAST-MODIFIED:20260416T210737Z
UID:10010317-1822068000-1822073400@ihcc.org
SUMMARY:Door-to-Door Evangelism
DESCRIPTION:Join us as we go door-to-door in various Lincoln neighborhoods bringing the Good News of the Gospel ! \nYou will get paired up with a seasoned evangelist if you’re new to this. We meet in the South Lobby at 6:00 pm \nWe go out each Monday night through the Summer and early Fall until daylight and weather determines otherwise.
URL:https://ihcc.org/event/door-to-door-evangelism/2027-09-27/
CATEGORIES:Adult Ministries,Evangelism Ministry
END:VEVENT
END:VCALENDAR