BEGIN:VCALENDAR
VERSION:2.0
PRODID:-//Indian Hills Community Church - ECPv6.15.20//NONSGML v1.0//EN
CALSCALE:GREGORIAN
METHOD:PUBLISH
X-ORIGINAL-URL:https://ihcc.org
X-WR-CALDESC:Events for Indian Hills Community Church
REFRESH-INTERVAL;VALUE=DURATION:PT1H
X-Robots-Tag:noindex
X-PUBLISHED-TTL:PT1H
BEGIN:VTIMEZONE
TZID:America/Chicago
BEGIN:DAYLIGHT
TZOFFSETFROM:-0600
TZOFFSETTO:-0500
TZNAME:CDT
DTSTART:20250309T080000
END:DAYLIGHT
BEGIN:STANDARD
TZOFFSETFROM:-0500
TZOFFSETTO:-0600
TZNAME:CST
DTSTART:20251102T070000
END:STANDARD
BEGIN:DAYLIGHT
TZOFFSETFROM:-0600
TZOFFSETTO:-0500
TZNAME:CDT
DTSTART:20260308T080000
END:DAYLIGHT
BEGIN:STANDARD
TZOFFSETFROM:-0500
TZOFFSETTO:-0600
TZNAME:CST
DTSTART:20261101T070000
END:STANDARD
BEGIN:DAYLIGHT
TZOFFSETFROM:-0600
TZOFFSETTO:-0500
TZNAME:CDT
DTSTART:20270314T080000
END:DAYLIGHT
BEGIN:STANDARD
TZOFFSETFROM:-0500
TZOFFSETTO:-0600
TZNAME:CST
DTSTART:20271107T070000
END:STANDARD
BEGIN:DAYLIGHT
TZOFFSETFROM:-0600
TZOFFSETTO:-0500
TZNAME:CDT
DTSTART:20280312T080000
END:DAYLIGHT
BEGIN:STANDARD
TZOFFSETFROM:-0500
TZOFFSETTO:-0600
TZNAME:CST
DTSTART:20281105T070000
END:STANDARD
END:VTIMEZONE
BEGIN:VEVENT
DTSTART;TZID=America/Chicago:20260914T180000
DTEND;TZID=America/Chicago:20260914T193000
DTSTAMP:20260419T083519
CREATED:20260416T205142Z
LAST-MODIFIED:20260416T210737Z
UID:10010263-1789408800-1789414200@ihcc.org
SUMMARY:Door-to-Door Evangelism
DESCRIPTION:Join us as we go door-to-door in various Lincoln neighborhoods bringing the Good News of the Gospel ! \nYou will get paired up with a seasoned evangelist if you’re new to this. We meet in the South Lobby at 6:00 pm \nWe go out each Monday night through the Summer and early Fall until daylight and weather determines otherwise.
URL:https://ihcc.org/event/door-to-door-evangelism/2026-09-14/
CATEGORIES:Adult Ministries,Evangelism Ministry
END:VEVENT
BEGIN:VEVENT
DTSTART;TZID=America/Chicago:20260921T180000
DTEND;TZID=America/Chicago:20260921T193000
DTSTAMP:20260419T083519
CREATED:20260416T205142Z
LAST-MODIFIED:20260416T210737Z
UID:10010264-1790013600-1790019000@ihcc.org
SUMMARY:Door-to-Door Evangelism
DESCRIPTION:Join us as we go door-to-door in various Lincoln neighborhoods bringing the Good News of the Gospel ! \nYou will get paired up with a seasoned evangelist if you’re new to this. We meet in the South Lobby at 6:00 pm \nWe go out each Monday night through the Summer and early Fall until daylight and weather determines otherwise.
URL:https://ihcc.org/event/door-to-door-evangelism/2026-09-21/
CATEGORIES:Adult Ministries,Evangelism Ministry
END:VEVENT
BEGIN:VEVENT
DTSTART;TZID=America/Chicago:20260928T180000
DTEND;TZID=America/Chicago:20260928T193000
DTSTAMP:20260419T083519
CREATED:20260416T205142Z
LAST-MODIFIED:20260416T210737Z
UID:10010265-1790618400-1790623800@ihcc.org
SUMMARY:Door-to-Door Evangelism
DESCRIPTION:Join us as we go door-to-door in various Lincoln neighborhoods bringing the Good News of the Gospel ! \nYou will get paired up with a seasoned evangelist if you’re new to this. We meet in the South Lobby at 6:00 pm \nWe go out each Monday night through the Summer and early Fall until daylight and weather determines otherwise.
URL:https://ihcc.org/event/door-to-door-evangelism/2026-09-28/
CATEGORIES:Adult Ministries,Evangelism Ministry
END:VEVENT
BEGIN:VEVENT
DTSTART;TZID=America/Chicago:20261005T180000
DTEND;TZID=America/Chicago:20261005T193000
DTSTAMP:20260419T083519
CREATED:20260416T205142Z
LAST-MODIFIED:20260416T210737Z
UID:10010266-1791223200-1791228600@ihcc.org
SUMMARY:Door-to-Door Evangelism
DESCRIPTION:Join us as we go door-to-door in various Lincoln neighborhoods bringing the Good News of the Gospel ! \nYou will get paired up with a seasoned evangelist if you’re new to this. We meet in the South Lobby at 6:00 pm \nWe go out each Monday night through the Summer and early Fall until daylight and weather determines otherwise.
URL:https://ihcc.org/event/door-to-door-evangelism/2026-10-05/
CATEGORIES:Adult Ministries,Evangelism Ministry
END:VEVENT
BEGIN:VEVENT
DTSTART;TZID=America/Chicago:20261012T180000
DTEND;TZID=America/Chicago:20261012T193000
DTSTAMP:20260419T083519
CREATED:20260416T205142Z
LAST-MODIFIED:20260416T210737Z
UID:10010267-1791828000-1791833400@ihcc.org
SUMMARY:Door-to-Door Evangelism
DESCRIPTION:Join us as we go door-to-door in various Lincoln neighborhoods bringing the Good News of the Gospel ! \nYou will get paired up with a seasoned evangelist if you’re new to this. We meet in the South Lobby at 6:00 pm \nWe go out each Monday night through the Summer and early Fall until daylight and weather determines otherwise.
URL:https://ihcc.org/event/door-to-door-evangelism/2026-10-12/
CATEGORIES:Adult Ministries,Evangelism Ministry
END:VEVENT
BEGIN:VEVENT
DTSTART;TZID=America/Chicago:20261019T180000
DTEND;TZID=America/Chicago:20261019T193000
DTSTAMP:20260419T083519
CREATED:20260416T205142Z
LAST-MODIFIED:20260416T210737Z
UID:10010268-1792432800-1792438200@ihcc.org
SUMMARY:Door-to-Door Evangelism
DESCRIPTION:Join us as we go door-to-door in various Lincoln neighborhoods bringing the Good News of the Gospel ! \nYou will get paired up with a seasoned evangelist if you’re new to this. We meet in the South Lobby at 6:00 pm \nWe go out each Monday night through the Summer and early Fall until daylight and weather determines otherwise.
URL:https://ihcc.org/event/door-to-door-evangelism/2026-10-19/
CATEGORIES:Adult Ministries,Evangelism Ministry
END:VEVENT
BEGIN:VEVENT
DTSTART;TZID=America/Chicago:20261026T180000
DTEND;TZID=America/Chicago:20261026T193000
DTSTAMP:20260419T083519
CREATED:20260416T205142Z
LAST-MODIFIED:20260416T210737Z
UID:10010269-1793037600-1793043000@ihcc.org
SUMMARY:Door-to-Door Evangelism
DESCRIPTION:Join us as we go door-to-door in various Lincoln neighborhoods bringing the Good News of the Gospel ! \nYou will get paired up with a seasoned evangelist if you’re new to this. We meet in the South Lobby at 6:00 pm \nWe go out each Monday night through the Summer and early Fall until daylight and weather determines otherwise.
URL:https://ihcc.org/event/door-to-door-evangelism/2026-10-26/
CATEGORIES:Adult Ministries,Evangelism Ministry
END:VEVENT
BEGIN:VEVENT
DTSTART;TZID=America/Chicago:20261102T180000
DTEND;TZID=America/Chicago:20261102T193000
DTSTAMP:20260419T083519
CREATED:20260416T205142Z
LAST-MODIFIED:20260416T210737Z
UID:10010270-1793642400-1793647800@ihcc.org
SUMMARY:Door-to-Door Evangelism
DESCRIPTION:Join us as we go door-to-door in various Lincoln neighborhoods bringing the Good News of the Gospel ! \nYou will get paired up with a seasoned evangelist if you’re new to this. We meet in the South Lobby at 6:00 pm \nWe go out each Monday night through the Summer and early Fall until daylight and weather determines otherwise.
URL:https://ihcc.org/event/door-to-door-evangelism/2026-11-02/
CATEGORIES:Adult Ministries,Evangelism Ministry
END:VEVENT
BEGIN:VEVENT
DTSTART;TZID=America/Chicago:20261109T180000
DTEND;TZID=America/Chicago:20261109T193000
DTSTAMP:20260419T083519
CREATED:20260416T205142Z
LAST-MODIFIED:20260416T210737Z
UID:10010271-1794247200-1794252600@ihcc.org
SUMMARY:Door-to-Door Evangelism
DESCRIPTION:Join us as we go door-to-door in various Lincoln neighborhoods bringing the Good News of the Gospel ! \nYou will get paired up with a seasoned evangelist if you’re new to this. We meet in the South Lobby at 6:00 pm \nWe go out each Monday night through the Summer and early Fall until daylight and weather determines otherwise.
URL:https://ihcc.org/event/door-to-door-evangelism/2026-11-09/
CATEGORIES:Adult Ministries,Evangelism Ministry
END:VEVENT
BEGIN:VEVENT
DTSTART;TZID=America/Chicago:20261116T180000
DTEND;TZID=America/Chicago:20261116T193000
DTSTAMP:20260419T083519
CREATED:20260416T205142Z
LAST-MODIFIED:20260416T210737Z
UID:10010272-1794852000-1794857400@ihcc.org
SUMMARY:Door-to-Door Evangelism
DESCRIPTION:Join us as we go door-to-door in various Lincoln neighborhoods bringing the Good News of the Gospel ! \nYou will get paired up with a seasoned evangelist if you’re new to this. We meet in the South Lobby at 6:00 pm \nWe go out each Monday night through the Summer and early Fall until daylight and weather determines otherwise.
URL:https://ihcc.org/event/door-to-door-evangelism/2026-11-16/
CATEGORIES:Adult Ministries,Evangelism Ministry
END:VEVENT
BEGIN:VEVENT
DTSTART;TZID=America/Chicago:20261123T180000
DTEND;TZID=America/Chicago:20261123T193000
DTSTAMP:20260419T083519
CREATED:20260416T205142Z
LAST-MODIFIED:20260416T210737Z
UID:10010273-1795456800-1795462200@ihcc.org
SUMMARY:Door-to-Door Evangelism
DESCRIPTION:Join us as we go door-to-door in various Lincoln neighborhoods bringing the Good News of the Gospel ! \nYou will get paired up with a seasoned evangelist if you’re new to this. We meet in the South Lobby at 6:00 pm \nWe go out each Monday night through the Summer and early Fall until daylight and weather determines otherwise.
URL:https://ihcc.org/event/door-to-door-evangelism/2026-11-23/
CATEGORIES:Adult Ministries,Evangelism Ministry
END:VEVENT
BEGIN:VEVENT
DTSTART;TZID=America/Chicago:20261130T180000
DTEND;TZID=America/Chicago:20261130T193000
DTSTAMP:20260419T083519
CREATED:20260416T205142Z
LAST-MODIFIED:20260416T210737Z
UID:10010274-1796061600-1796067000@ihcc.org
SUMMARY:Door-to-Door Evangelism
DESCRIPTION:Join us as we go door-to-door in various Lincoln neighborhoods bringing the Good News of the Gospel ! \nYou will get paired up with a seasoned evangelist if you’re new to this. We meet in the South Lobby at 6:00 pm \nWe go out each Monday night through the Summer and early Fall until daylight and weather determines otherwise.
URL:https://ihcc.org/event/door-to-door-evangelism/2026-11-30/
CATEGORIES:Adult Ministries,Evangelism Ministry
END:VEVENT
BEGIN:VEVENT
DTSTART;TZID=America/Chicago:20261207T180000
DTEND;TZID=America/Chicago:20261207T193000
DTSTAMP:20260419T083519
CREATED:20260416T205142Z
LAST-MODIFIED:20260416T210737Z
UID:10010275-1796666400-1796671800@ihcc.org
SUMMARY:Door-to-Door Evangelism
DESCRIPTION:Join us as we go door-to-door in various Lincoln neighborhoods bringing the Good News of the Gospel ! \nYou will get paired up with a seasoned evangelist if you’re new to this. We meet in the South Lobby at 6:00 pm \nWe go out each Monday night through the Summer and early Fall until daylight and weather determines otherwise.
URL:https://ihcc.org/event/door-to-door-evangelism/2026-12-07/
CATEGORIES:Adult Ministries,Evangelism Ministry
END:VEVENT
BEGIN:VEVENT
DTSTART;TZID=America/Chicago:20261214T180000
DTEND;TZID=America/Chicago:20261214T193000
DTSTAMP:20260419T083519
CREATED:20260416T205142Z
LAST-MODIFIED:20260416T210737Z
UID:10010276-1797271200-1797276600@ihcc.org
SUMMARY:Door-to-Door Evangelism
DESCRIPTION:Join us as we go door-to-door in various Lincoln neighborhoods bringing the Good News of the Gospel ! \nYou will get paired up with a seasoned evangelist if you’re new to this. We meet in the South Lobby at 6:00 pm \nWe go out each Monday night through the Summer and early Fall until daylight and weather determines otherwise.
URL:https://ihcc.org/event/door-to-door-evangelism/2026-12-14/
CATEGORIES:Adult Ministries,Evangelism Ministry
END:VEVENT
BEGIN:VEVENT
DTSTART;TZID=America/Chicago:20261221T180000
DTEND;TZID=America/Chicago:20261221T193000
DTSTAMP:20260419T083519
CREATED:20260416T205142Z
LAST-MODIFIED:20260416T210737Z
UID:10010277-1797876000-1797881400@ihcc.org
SUMMARY:Door-to-Door Evangelism
DESCRIPTION:Join us as we go door-to-door in various Lincoln neighborhoods bringing the Good News of the Gospel ! \nYou will get paired up with a seasoned evangelist if you’re new to this. We meet in the South Lobby at 6:00 pm \nWe go out each Monday night through the Summer and early Fall until daylight and weather determines otherwise.
URL:https://ihcc.org/event/door-to-door-evangelism/2026-12-21/
CATEGORIES:Adult Ministries,Evangelism Ministry
END:VEVENT
BEGIN:VEVENT
DTSTART;TZID=America/Chicago:20261228T180000
DTEND;TZID=America/Chicago:20261228T193000
DTSTAMP:20260419T083519
CREATED:20260416T205142Z
LAST-MODIFIED:20260416T210737Z
UID:10010278-1798480800-1798486200@ihcc.org
SUMMARY:Door-to-Door Evangelism
DESCRIPTION:Join us as we go door-to-door in various Lincoln neighborhoods bringing the Good News of the Gospel ! \nYou will get paired up with a seasoned evangelist if you’re new to this. We meet in the South Lobby at 6:00 pm \nWe go out each Monday night through the Summer and early Fall until daylight and weather determines otherwise.
URL:https://ihcc.org/event/door-to-door-evangelism/2026-12-28/
CATEGORIES:Adult Ministries,Evangelism Ministry
END:VEVENT
BEGIN:VEVENT
DTSTART;TZID=America/Chicago:20270104T180000
DTEND;TZID=America/Chicago:20270104T193000
DTSTAMP:20260419T083519
CREATED:20260416T205142Z
LAST-MODIFIED:20260416T210737Z
UID:10010279-1799085600-1799091000@ihcc.org
SUMMARY:Door-to-Door Evangelism
DESCRIPTION:Join us as we go door-to-door in various Lincoln neighborhoods bringing the Good News of the Gospel ! \nYou will get paired up with a seasoned evangelist if you’re new to this. We meet in the South Lobby at 6:00 pm \nWe go out each Monday night through the Summer and early Fall until daylight and weather determines otherwise.
URL:https://ihcc.org/event/door-to-door-evangelism/2027-01-04/
CATEGORIES:Adult Ministries,Evangelism Ministry
END:VEVENT
BEGIN:VEVENT
DTSTART;TZID=America/Chicago:20270111T180000
DTEND;TZID=America/Chicago:20270111T193000
DTSTAMP:20260419T083519
CREATED:20260416T205142Z
LAST-MODIFIED:20260416T210737Z
UID:10010280-1799690400-1799695800@ihcc.org
SUMMARY:Door-to-Door Evangelism
DESCRIPTION:Join us as we go door-to-door in various Lincoln neighborhoods bringing the Good News of the Gospel ! \nYou will get paired up with a seasoned evangelist if you’re new to this. We meet in the South Lobby at 6:00 pm \nWe go out each Monday night through the Summer and early Fall until daylight and weather determines otherwise.
URL:https://ihcc.org/event/door-to-door-evangelism/2027-01-11/
CATEGORIES:Adult Ministries,Evangelism Ministry
END:VEVENT
BEGIN:VEVENT
DTSTART;TZID=America/Chicago:20270118T180000
DTEND;TZID=America/Chicago:20270118T193000
DTSTAMP:20260419T083519
CREATED:20260416T205142Z
LAST-MODIFIED:20260416T210737Z
UID:10010281-1800295200-1800300600@ihcc.org
SUMMARY:Door-to-Door Evangelism
DESCRIPTION:Join us as we go door-to-door in various Lincoln neighborhoods bringing the Good News of the Gospel ! \nYou will get paired up with a seasoned evangelist if you’re new to this. We meet in the South Lobby at 6:00 pm \nWe go out each Monday night through the Summer and early Fall until daylight and weather determines otherwise.
URL:https://ihcc.org/event/door-to-door-evangelism/2027-01-18/
CATEGORIES:Adult Ministries,Evangelism Ministry
END:VEVENT
BEGIN:VEVENT
DTSTART;TZID=America/Chicago:20270125T180000
DTEND;TZID=America/Chicago:20270125T193000
DTSTAMP:20260419T083519
CREATED:20260416T205142Z
LAST-MODIFIED:20260416T210737Z
UID:10010282-1800900000-1800905400@ihcc.org
SUMMARY:Door-to-Door Evangelism
DESCRIPTION:Join us as we go door-to-door in various Lincoln neighborhoods bringing the Good News of the Gospel ! \nYou will get paired up with a seasoned evangelist if you’re new to this. We meet in the South Lobby at 6:00 pm \nWe go out each Monday night through the Summer and early Fall until daylight and weather determines otherwise.
URL:https://ihcc.org/event/door-to-door-evangelism/2027-01-25/
CATEGORIES:Adult Ministries,Evangelism Ministry
END:VEVENT
BEGIN:VEVENT
DTSTART;TZID=America/Chicago:20270201T180000
DTEND;TZID=America/Chicago:20270201T193000
DTSTAMP:20260419T083519
CREATED:20260416T205142Z
LAST-MODIFIED:20260416T210737Z
UID:10010283-1801504800-1801510200@ihcc.org
SUMMARY:Door-to-Door Evangelism
DESCRIPTION:Join us as we go door-to-door in various Lincoln neighborhoods bringing the Good News of the Gospel ! \nYou will get paired up with a seasoned evangelist if you’re new to this. We meet in the South Lobby at 6:00 pm \nWe go out each Monday night through the Summer and early Fall until daylight and weather determines otherwise.
URL:https://ihcc.org/event/door-to-door-evangelism/2027-02-01/
CATEGORIES:Adult Ministries,Evangelism Ministry
END:VEVENT
BEGIN:VEVENT
DTSTART;TZID=America/Chicago:20270208T180000
DTEND;TZID=America/Chicago:20270208T193000
DTSTAMP:20260419T083519
CREATED:20260416T205142Z
LAST-MODIFIED:20260416T210737Z
UID:10010284-1802109600-1802115000@ihcc.org
SUMMARY:Door-to-Door Evangelism
DESCRIPTION:Join us as we go door-to-door in various Lincoln neighborhoods bringing the Good News of the Gospel ! \nYou will get paired up with a seasoned evangelist if you’re new to this. We meet in the South Lobby at 6:00 pm \nWe go out each Monday night through the Summer and early Fall until daylight and weather determines otherwise.
URL:https://ihcc.org/event/door-to-door-evangelism/2027-02-08/
CATEGORIES:Adult Ministries,Evangelism Ministry
END:VEVENT
BEGIN:VEVENT
DTSTART;TZID=America/Chicago:20270215T180000
DTEND;TZID=America/Chicago:20270215T193000
DTSTAMP:20260419T083519
CREATED:20260416T205142Z
LAST-MODIFIED:20260416T210737Z
UID:10010285-1802714400-1802719800@ihcc.org
SUMMARY:Door-to-Door Evangelism
DESCRIPTION:Join us as we go door-to-door in various Lincoln neighborhoods bringing the Good News of the Gospel ! \nYou will get paired up with a seasoned evangelist if you’re new to this. We meet in the South Lobby at 6:00 pm \nWe go out each Monday night through the Summer and early Fall until daylight and weather determines otherwise.
URL:https://ihcc.org/event/door-to-door-evangelism/2027-02-15/
CATEGORIES:Adult Ministries,Evangelism Ministry
END:VEVENT
BEGIN:VEVENT
DTSTART;TZID=America/Chicago:20270222T180000
DTEND;TZID=America/Chicago:20270222T193000
DTSTAMP:20260419T083519
CREATED:20260416T205142Z
LAST-MODIFIED:20260416T210737Z
UID:10010286-1803319200-1803324600@ihcc.org
SUMMARY:Door-to-Door Evangelism
DESCRIPTION:Join us as we go door-to-door in various Lincoln neighborhoods bringing the Good News of the Gospel ! \nYou will get paired up with a seasoned evangelist if you’re new to this. We meet in the South Lobby at 6:00 pm \nWe go out each Monday night through the Summer and early Fall until daylight and weather determines otherwise.
URL:https://ihcc.org/event/door-to-door-evangelism/2027-02-22/
CATEGORIES:Adult Ministries,Evangelism Ministry
END:VEVENT
BEGIN:VEVENT
DTSTART;TZID=America/Chicago:20270301T180000
DTEND;TZID=America/Chicago:20270301T193000
DTSTAMP:20260419T083519
CREATED:20260416T205142Z
LAST-MODIFIED:20260416T210737Z
UID:10010287-1803924000-1803929400@ihcc.org
SUMMARY:Door-to-Door Evangelism
DESCRIPTION:Join us as we go door-to-door in various Lincoln neighborhoods bringing the Good News of the Gospel ! \nYou will get paired up with a seasoned evangelist if you’re new to this. We meet in the South Lobby at 6:00 pm \nWe go out each Monday night through the Summer and early Fall until daylight and weather determines otherwise.
URL:https://ihcc.org/event/door-to-door-evangelism/2027-03-01/
CATEGORIES:Adult Ministries,Evangelism Ministry
END:VEVENT
BEGIN:VEVENT
DTSTART;TZID=America/Chicago:20270308T180000
DTEND;TZID=America/Chicago:20270308T193000
DTSTAMP:20260419T083519
CREATED:20260416T205142Z
LAST-MODIFIED:20260416T210737Z
UID:10010288-1804528800-1804534200@ihcc.org
SUMMARY:Door-to-Door Evangelism
DESCRIPTION:Join us as we go door-to-door in various Lincoln neighborhoods bringing the Good News of the Gospel ! \nYou will get paired up with a seasoned evangelist if you’re new to this. We meet in the South Lobby at 6:00 pm \nWe go out each Monday night through the Summer and early Fall until daylight and weather determines otherwise.
URL:https://ihcc.org/event/door-to-door-evangelism/2027-03-08/
CATEGORIES:Adult Ministries,Evangelism Ministry
END:VEVENT
BEGIN:VEVENT
DTSTART;TZID=America/Chicago:20270315T180000
DTEND;TZID=America/Chicago:20270315T193000
DTSTAMP:20260419T083519
CREATED:20260416T205142Z
LAST-MODIFIED:20260416T210737Z
UID:10010289-1805133600-1805139000@ihcc.org
SUMMARY:Door-to-Door Evangelism
DESCRIPTION:Join us as we go door-to-door in various Lincoln neighborhoods bringing the Good News of the Gospel ! \nYou will get paired up with a seasoned evangelist if you’re new to this. We meet in the South Lobby at 6:00 pm \nWe go out each Monday night through the Summer and early Fall until daylight and weather determines otherwise.
URL:https://ihcc.org/event/door-to-door-evangelism/2027-03-15/
CATEGORIES:Adult Ministries,Evangelism Ministry
END:VEVENT
BEGIN:VEVENT
DTSTART;TZID=America/Chicago:20270322T180000
DTEND;TZID=America/Chicago:20270322T193000
DTSTAMP:20260419T083519
CREATED:20260416T205142Z
LAST-MODIFIED:20260416T210737Z
UID:10010290-1805738400-1805743800@ihcc.org
SUMMARY:Door-to-Door Evangelism
DESCRIPTION:Join us as we go door-to-door in various Lincoln neighborhoods bringing the Good News of the Gospel ! \nYou will get paired up with a seasoned evangelist if you’re new to this. We meet in the South Lobby at 6:00 pm \nWe go out each Monday night through the Summer and early Fall until daylight and weather determines otherwise.
URL:https://ihcc.org/event/door-to-door-evangelism/2027-03-22/
CATEGORIES:Adult Ministries,Evangelism Ministry
END:VEVENT
BEGIN:VEVENT
DTSTART;TZID=America/Chicago:20270329T180000
DTEND;TZID=America/Chicago:20270329T193000
DTSTAMP:20260419T083519
CREATED:20260416T205142Z
LAST-MODIFIED:20260416T210737Z
UID:10010291-1806343200-1806348600@ihcc.org
SUMMARY:Door-to-Door Evangelism
DESCRIPTION:Join us as we go door-to-door in various Lincoln neighborhoods bringing the Good News of the Gospel ! \nYou will get paired up with a seasoned evangelist if you’re new to this. We meet in the South Lobby at 6:00 pm \nWe go out each Monday night through the Summer and early Fall until daylight and weather determines otherwise.
URL:https://ihcc.org/event/door-to-door-evangelism/2027-03-29/
CATEGORIES:Adult Ministries,Evangelism Ministry
END:VEVENT
BEGIN:VEVENT
DTSTART;TZID=America/Chicago:20270405T180000
DTEND;TZID=America/Chicago:20270405T193000
DTSTAMP:20260419T083519
CREATED:20260416T205142Z
LAST-MODIFIED:20260416T210737Z
UID:10010292-1806948000-1806953400@ihcc.org
SUMMARY:Door-to-Door Evangelism
DESCRIPTION:Join us as we go door-to-door in various Lincoln neighborhoods bringing the Good News of the Gospel ! \nYou will get paired up with a seasoned evangelist if you’re new to this. We meet in the South Lobby at 6:00 pm \nWe go out each Monday night through the Summer and early Fall until daylight and weather determines otherwise.
URL:https://ihcc.org/event/door-to-door-evangelism/2027-04-05/
CATEGORIES:Adult Ministries,Evangelism Ministry
END:VEVENT
END:VCALENDAR