BEGIN:VCALENDAR
VERSION:2.0
PRODID:-//Indian Hills Community Church - ECPv6.15.20//NONSGML v1.0//EN
CALSCALE:GREGORIAN
METHOD:PUBLISH
X-WR-CALNAME:Indian Hills Community Church
X-ORIGINAL-URL:https://ihcc.org
X-WR-CALDESC:Events for Indian Hills Community Church
REFRESH-INTERVAL;VALUE=DURATION:PT1H
X-Robots-Tag:noindex
X-PUBLISHED-TTL:PT1H
BEGIN:VTIMEZONE
TZID:America/Chicago
BEGIN:DAYLIGHT
TZOFFSETFROM:-0600
TZOFFSETTO:-0500
TZNAME:CDT
DTSTART:20250309T080000
END:DAYLIGHT
BEGIN:STANDARD
TZOFFSETFROM:-0500
TZOFFSETTO:-0600
TZNAME:CST
DTSTART:20251102T070000
END:STANDARD
BEGIN:DAYLIGHT
TZOFFSETFROM:-0600
TZOFFSETTO:-0500
TZNAME:CDT
DTSTART:20260308T080000
END:DAYLIGHT
BEGIN:STANDARD
TZOFFSETFROM:-0500
TZOFFSETTO:-0600
TZNAME:CST
DTSTART:20261101T070000
END:STANDARD
BEGIN:DAYLIGHT
TZOFFSETFROM:-0600
TZOFFSETTO:-0500
TZNAME:CDT
DTSTART:20270314T080000
END:DAYLIGHT
BEGIN:STANDARD
TZOFFSETFROM:-0500
TZOFFSETTO:-0600
TZNAME:CST
DTSTART:20271107T070000
END:STANDARD
END:VTIMEZONE
BEGIN:VEVENT
DTSTART;TZID=America/Chicago:20260928T184500
DTEND;TZID=America/Chicago:20260928T210000
DTSTAMP:20260424T192427
CREATED:20260403T143641Z
LAST-MODIFIED:20260403T143641Z
UID:10010053-1790621100-1790629200@ihcc.org
SUMMARY:Pickleball
DESCRIPTION:Come play Pickleball in the Family Center on Mondays from 6:45-9:00pm. Contact Vince Ganshorn for further information.
URL:https://ihcc.org/event/pickleball-2-2-2-2-2-2-2/2026-09-28/
LOCATION:Family Center\, 1000 S. 84th St.\, Lincoln\, NE\, 68505\, United States
END:VEVENT
BEGIN:VEVENT
DTSTART;TZID=America/Chicago:20261005T184500
DTEND;TZID=America/Chicago:20261005T210000
DTSTAMP:20260424T192427
CREATED:20260403T143641Z
LAST-MODIFIED:20260403T143641Z
UID:10010054-1791225900-1791234000@ihcc.org
SUMMARY:Pickleball
DESCRIPTION:Come play Pickleball in the Family Center on Mondays from 6:45-9:00pm. Contact Vince Ganshorn for further information.
URL:https://ihcc.org/event/pickleball-2-2-2-2-2-2-2/2026-10-05/
LOCATION:Family Center\, 1000 S. 84th St.\, Lincoln\, NE\, 68505\, United States
END:VEVENT
BEGIN:VEVENT
DTSTART;TZID=America/Chicago:20261012T184500
DTEND;TZID=America/Chicago:20261012T210000
DTSTAMP:20260424T192427
CREATED:20260403T143641Z
LAST-MODIFIED:20260403T143641Z
UID:10010055-1791830700-1791838800@ihcc.org
SUMMARY:Pickleball
DESCRIPTION:Come play Pickleball in the Family Center on Mondays from 6:45-9:00pm. Contact Vince Ganshorn for further information.
URL:https://ihcc.org/event/pickleball-2-2-2-2-2-2-2/2026-10-12/
LOCATION:Family Center\, 1000 S. 84th St.\, Lincoln\, NE\, 68505\, United States
END:VEVENT
BEGIN:VEVENT
DTSTART;TZID=America/Chicago:20261019T184500
DTEND;TZID=America/Chicago:20261019T210000
DTSTAMP:20260424T192427
CREATED:20260403T143641Z
LAST-MODIFIED:20260403T143641Z
UID:10010056-1792435500-1792443600@ihcc.org
SUMMARY:Pickleball
DESCRIPTION:Come play Pickleball in the Family Center on Mondays from 6:45-9:00pm. Contact Vince Ganshorn for further information.
URL:https://ihcc.org/event/pickleball-2-2-2-2-2-2-2/2026-10-19/
LOCATION:Family Center\, 1000 S. 84th St.\, Lincoln\, NE\, 68505\, United States
END:VEVENT
BEGIN:VEVENT
DTSTART;TZID=America/Chicago:20261026T184500
DTEND;TZID=America/Chicago:20261026T210000
DTSTAMP:20260424T192427
CREATED:20260403T143641Z
LAST-MODIFIED:20260403T143641Z
UID:10010057-1793040300-1793048400@ihcc.org
SUMMARY:Pickleball
DESCRIPTION:Come play Pickleball in the Family Center on Mondays from 6:45-9:00pm. Contact Vince Ganshorn for further information.
URL:https://ihcc.org/event/pickleball-2-2-2-2-2-2-2/2026-10-26/
LOCATION:Family Center\, 1000 S. 84th St.\, Lincoln\, NE\, 68505\, United States
END:VEVENT
BEGIN:VEVENT
DTSTART;TZID=America/Chicago:20261102T184500
DTEND;TZID=America/Chicago:20261102T210000
DTSTAMP:20260424T192427
CREATED:20260403T143641Z
LAST-MODIFIED:20260403T143641Z
UID:10010058-1793645100-1793653200@ihcc.org
SUMMARY:Pickleball
DESCRIPTION:Come play Pickleball in the Family Center on Mondays from 6:45-9:00pm. Contact Vince Ganshorn for further information.
URL:https://ihcc.org/event/pickleball-2-2-2-2-2-2-2/2026-11-02/
LOCATION:Family Center\, 1000 S. 84th St.\, Lincoln\, NE\, 68505\, United States
END:VEVENT
BEGIN:VEVENT
DTSTART;TZID=America/Chicago:20261109T184500
DTEND;TZID=America/Chicago:20261109T210000
DTSTAMP:20260424T192427
CREATED:20260403T143641Z
LAST-MODIFIED:20260403T143641Z
UID:10010059-1794249900-1794258000@ihcc.org
SUMMARY:Pickleball
DESCRIPTION:Come play Pickleball in the Family Center on Mondays from 6:45-9:00pm. Contact Vince Ganshorn for further information.
URL:https://ihcc.org/event/pickleball-2-2-2-2-2-2-2/2026-11-09/
LOCATION:Family Center\, 1000 S. 84th St.\, Lincoln\, NE\, 68505\, United States
END:VEVENT
BEGIN:VEVENT
DTSTART;TZID=America/Chicago:20261116T184500
DTEND;TZID=America/Chicago:20261116T210000
DTSTAMP:20260424T192427
CREATED:20260403T143641Z
LAST-MODIFIED:20260403T143641Z
UID:10010060-1794854700-1794862800@ihcc.org
SUMMARY:Pickleball
DESCRIPTION:Come play Pickleball in the Family Center on Mondays from 6:45-9:00pm. Contact Vince Ganshorn for further information.
URL:https://ihcc.org/event/pickleball-2-2-2-2-2-2-2/2026-11-16/
LOCATION:Family Center\, 1000 S. 84th St.\, Lincoln\, NE\, 68505\, United States
END:VEVENT
BEGIN:VEVENT
DTSTART;TZID=America/Chicago:20261123T184500
DTEND;TZID=America/Chicago:20261123T210000
DTSTAMP:20260424T192427
CREATED:20260403T143641Z
LAST-MODIFIED:20260403T143641Z
UID:10010061-1795459500-1795467600@ihcc.org
SUMMARY:Pickleball
DESCRIPTION:Come play Pickleball in the Family Center on Mondays from 6:45-9:00pm. Contact Vince Ganshorn for further information.
URL:https://ihcc.org/event/pickleball-2-2-2-2-2-2-2/2026-11-23/
LOCATION:Family Center\, 1000 S. 84th St.\, Lincoln\, NE\, 68505\, United States
END:VEVENT
BEGIN:VEVENT
DTSTART;TZID=America/Chicago:20261130T184500
DTEND;TZID=America/Chicago:20261130T210000
DTSTAMP:20260424T192427
CREATED:20260403T143641Z
LAST-MODIFIED:20260403T143641Z
UID:10010062-1796064300-1796072400@ihcc.org
SUMMARY:Pickleball
DESCRIPTION:Come play Pickleball in the Family Center on Mondays from 6:45-9:00pm. Contact Vince Ganshorn for further information.
URL:https://ihcc.org/event/pickleball-2-2-2-2-2-2-2/2026-11-30/
LOCATION:Family Center\, 1000 S. 84th St.\, Lincoln\, NE\, 68505\, United States
END:VEVENT
BEGIN:VEVENT
DTSTART;TZID=America/Chicago:20261207T184500
DTEND;TZID=America/Chicago:20261207T210000
DTSTAMP:20260424T192427
CREATED:20260403T143641Z
LAST-MODIFIED:20260403T143641Z
UID:10010063-1796669100-1796677200@ihcc.org
SUMMARY:Pickleball
DESCRIPTION:Come play Pickleball in the Family Center on Mondays from 6:45-9:00pm. Contact Vince Ganshorn for further information.
URL:https://ihcc.org/event/pickleball-2-2-2-2-2-2-2/2026-12-07/
LOCATION:Family Center\, 1000 S. 84th St.\, Lincoln\, NE\, 68505\, United States
END:VEVENT
BEGIN:VEVENT
DTSTART;TZID=America/Chicago:20261214T184500
DTEND;TZID=America/Chicago:20261214T210000
DTSTAMP:20260424T192427
CREATED:20260403T143641Z
LAST-MODIFIED:20260403T143641Z
UID:10010064-1797273900-1797282000@ihcc.org
SUMMARY:Pickleball
DESCRIPTION:Come play Pickleball in the Family Center on Mondays from 6:45-9:00pm. Contact Vince Ganshorn for further information.
URL:https://ihcc.org/event/pickleball-2-2-2-2-2-2-2/2026-12-14/
LOCATION:Family Center\, 1000 S. 84th St.\, Lincoln\, NE\, 68505\, United States
END:VEVENT
BEGIN:VEVENT
DTSTART;TZID=America/Chicago:20261221T184500
DTEND;TZID=America/Chicago:20261221T210000
DTSTAMP:20260424T192427
CREATED:20260403T143641Z
LAST-MODIFIED:20260403T143641Z
UID:10010065-1797878700-1797886800@ihcc.org
SUMMARY:Pickleball
DESCRIPTION:Come play Pickleball in the Family Center on Mondays from 6:45-9:00pm. Contact Vince Ganshorn for further information.
URL:https://ihcc.org/event/pickleball-2-2-2-2-2-2-2/2026-12-21/
LOCATION:Family Center\, 1000 S. 84th St.\, Lincoln\, NE\, 68505\, United States
END:VEVENT
BEGIN:VEVENT
DTSTART;TZID=America/Chicago:20261228T184500
DTEND;TZID=America/Chicago:20261228T210000
DTSTAMP:20260424T192427
CREATED:20260403T143641Z
LAST-MODIFIED:20260403T143641Z
UID:10010066-1798483500-1798491600@ihcc.org
SUMMARY:Pickleball
DESCRIPTION:Come play Pickleball in the Family Center on Mondays from 6:45-9:00pm. Contact Vince Ganshorn for further information.
URL:https://ihcc.org/event/pickleball-2-2-2-2-2-2-2/2026-12-28/
LOCATION:Family Center\, 1000 S. 84th St.\, Lincoln\, NE\, 68505\, United States
END:VEVENT
END:VCALENDAR