BEGIN:VCALENDAR
VERSION:2.0
PRODID:-//Indian Hills Community Church - ECPv6.15.20//NONSGML v1.0//EN
CALSCALE:GREGORIAN
METHOD:PUBLISH
X-WR-CALNAME:Indian Hills Community Church
X-ORIGINAL-URL:https://ihcc.org
X-WR-CALDESC:Events for Indian Hills Community Church
REFRESH-INTERVAL;VALUE=DURATION:PT1H
X-Robots-Tag:noindex
X-PUBLISHED-TTL:PT1H
BEGIN:VTIMEZONE
TZID:America/Chicago
BEGIN:DAYLIGHT
TZOFFSETFROM:-0600
TZOFFSETTO:-0500
TZNAME:CDT
DTSTART:20240310T080000
END:DAYLIGHT
BEGIN:STANDARD
TZOFFSETFROM:-0500
TZOFFSETTO:-0600
TZNAME:CST
DTSTART:20241103T070000
END:STANDARD
BEGIN:DAYLIGHT
TZOFFSETFROM:-0600
TZOFFSETTO:-0500
TZNAME:CDT
DTSTART:20250309T080000
END:DAYLIGHT
BEGIN:STANDARD
TZOFFSETFROM:-0500
TZOFFSETTO:-0600
TZNAME:CST
DTSTART:20251102T070000
END:STANDARD
BEGIN:DAYLIGHT
TZOFFSETFROM:-0600
TZOFFSETTO:-0500
TZNAME:CDT
DTSTART:20260308T080000
END:DAYLIGHT
BEGIN:STANDARD
TZOFFSETFROM:-0500
TZOFFSETTO:-0600
TZNAME:CST
DTSTART:20261101T070000
END:STANDARD
END:VTIMEZONE
BEGIN:VEVENT
DTSTART;TZID=America/Chicago:20251022T174500
DTEND;TZID=America/Chicago:20251022T193000
DTSTAMP:20260424T210716
CREATED:20250904T181052Z
LAST-MODIFIED:20251114T144456Z
UID:10009460-1761155100-1761161400@ihcc.org
SUMMARY:Bible Study for Deaf - Beard
DESCRIPTION:Join us each Wednesday evening in the STS Classroom on the second floor just next to the elevator for an interpreted Bible Study for the deaf.
URL:https://ihcc.org/event/deaf-bible-study-beard/2025-10-22/
LOCATION:STS Classroom
CATEGORIES:Adult Ministries,Deaf Ministry
END:VEVENT
BEGIN:VEVENT
DTSTART;TZID=America/Chicago:20251019T084500
DTEND;TZID=America/Chicago:20251019T094500
DTSTAMP:20260424T210716
CREATED:20251007T173748Z
LAST-MODIFIED:20251217T142556Z
UID:10009520-1760863500-1760867100@ihcc.org
SUMMARY:Fundamentals of the Faith Class
DESCRIPTION:This class will run for about six months and will give you an overview of the beliefs of our church. Sign up at ihcc.org.
URL:https://ihcc.org/event/fundamentals-of-the-faith-class-2/2025-10-19/
LOCATION:STS Classroom
CATEGORIES:Adult Ministries
END:VEVENT
BEGIN:VEVENT
DTSTART;TZID=America/Chicago:20251015T174500
DTEND;TZID=America/Chicago:20251015T193000
DTSTAMP:20260424T210716
CREATED:20250904T181052Z
LAST-MODIFIED:20251114T144456Z
UID:10009459-1760550300-1760556600@ihcc.org
SUMMARY:Bible Study for Deaf - Beard
DESCRIPTION:Join us each Wednesday evening in the STS Classroom on the second floor just next to the elevator for an interpreted Bible Study for the deaf.
URL:https://ihcc.org/event/deaf-bible-study-beard/2025-10-15/
LOCATION:STS Classroom
CATEGORIES:Adult Ministries,Deaf Ministry
END:VEVENT
BEGIN:VEVENT
DTSTART;TZID=America/Chicago:20251012T084500
DTEND;TZID=America/Chicago:20251012T094500
DTSTAMP:20260424T210716
CREATED:20251007T173748Z
LAST-MODIFIED:20251217T142556Z
UID:10009495-1760258700-1760262300@ihcc.org
SUMMARY:Fundamentals of the Faith Class
DESCRIPTION:This class will run for about six months and will give you an overview of the beliefs of our church. Sign up at ihcc.org.
URL:https://ihcc.org/event/fundamentals-of-the-faith-class-2/2025-10-12/
LOCATION:STS Classroom
CATEGORIES:Adult Ministries
END:VEVENT
BEGIN:VEVENT
DTSTART;TZID=America/Chicago:20251008T174500
DTEND;TZID=America/Chicago:20251008T193000
DTSTAMP:20260424T210716
CREATED:20250904T181052Z
LAST-MODIFIED:20251114T144456Z
UID:10009458-1759945500-1759951800@ihcc.org
SUMMARY:Bible Study for Deaf - Beard
DESCRIPTION:Join us each Wednesday evening in the STS Classroom on the second floor just next to the elevator for an interpreted Bible Study for the deaf.
URL:https://ihcc.org/event/deaf-bible-study-beard/2025-10-08/
LOCATION:STS Classroom
CATEGORIES:Adult Ministries,Deaf Ministry
END:VEVENT
BEGIN:VEVENT
DTSTART;TZID=America/Chicago:20251001T174500
DTEND;TZID=America/Chicago:20251001T193000
DTSTAMP:20260424T210716
CREATED:20250904T181052Z
LAST-MODIFIED:20251114T144456Z
UID:10009457-1759340700-1759347000@ihcc.org
SUMMARY:Bible Study for Deaf - Beard
DESCRIPTION:Join us each Wednesday evening in the STS Classroom on the second floor just next to the elevator for an interpreted Bible Study for the deaf.
URL:https://ihcc.org/event/deaf-bible-study-beard/2025-10-01/
LOCATION:STS Classroom
CATEGORIES:Adult Ministries,Deaf Ministry
END:VEVENT
BEGIN:VEVENT
DTSTART;TZID=America/Chicago:20250924T174500
DTEND;TZID=America/Chicago:20250924T193000
DTSTAMP:20260424T210716
CREATED:20250904T181052Z
LAST-MODIFIED:20251114T144456Z
UID:10009456-1758735900-1758742200@ihcc.org
SUMMARY:Bible Study for Deaf - Beard
DESCRIPTION:Join us each Wednesday evening in the STS Classroom on the second floor just next to the elevator for an interpreted Bible Study for the deaf.
URL:https://ihcc.org/event/deaf-bible-study-beard/2025-09-24/
LOCATION:STS Classroom
CATEGORIES:Adult Ministries,Deaf Ministry
END:VEVENT
BEGIN:VEVENT
DTSTART;TZID=America/Chicago:20250917T174500
DTEND;TZID=America/Chicago:20250917T193000
DTSTAMP:20260424T210716
CREATED:20250904T181052Z
LAST-MODIFIED:20251114T144456Z
UID:10009455-1758131100-1758137400@ihcc.org
SUMMARY:Bible Study for Deaf - Beard
DESCRIPTION:Join us each Wednesday evening in the STS Classroom on the second floor just next to the elevator for an interpreted Bible Study for the deaf.
URL:https://ihcc.org/event/deaf-bible-study-beard/2025-09-17/
LOCATION:STS Classroom
CATEGORIES:Adult Ministries,Deaf Ministry
END:VEVENT
BEGIN:VEVENT
DTSTART;TZID=America/Chicago:20250910T174500
DTEND;TZID=America/Chicago:20250910T193000
DTSTAMP:20260424T210716
CREATED:20250904T181052Z
LAST-MODIFIED:20251114T144456Z
UID:10009454-1757526300-1757532600@ihcc.org
SUMMARY:Bible Study for Deaf - Beard
DESCRIPTION:Join us each Wednesday evening in the STS Classroom on the second floor just next to the elevator for an interpreted Bible Study for the deaf.
URL:https://ihcc.org/event/deaf-bible-study-beard/2025-09-10/
LOCATION:STS Classroom
CATEGORIES:Adult Ministries,Deaf Ministry
END:VEVENT
END:VCALENDAR